BEGIN:VCALENDAR
VERSION:2.0
PRODID:-//CJDES - ECPv5.3.0//NONSGML v1.0//EN
CALSCALE:GREGORIAN
METHOD:PUBLISH
X-WR-CALNAME:CJDES
X-ORIGINAL-URL:https://www.cjdes.org
X-WR-CALDESC:évènements pour CJDES
BEGIN:VTIMEZONE
TZID:Europe/Paris
BEGIN:DAYLIGHT
TZOFFSETFROM:+0100
TZOFFSETTO:+0200
TZNAME:CEST
DTSTART:20200329T010000
END:DAYLIGHT
BEGIN:STANDARD
TZOFFSETFROM:+0200
TZOFFSETTO:+0100
TZNAME:CET
DTSTART:20201025T010000
END:STANDARD
END:VTIMEZONE
BEGIN:VEVENT
DTSTART;TZID=Europe/Paris:20200817T120000
DTEND;TZID=Europe/Paris:20200817T210000
DTSTAMP:20260421T144929
CREATED:20200804T133616Z
LAST-MODIFIED:20200804T133616Z
UID:4711-1597665600-1597698000@www.cjdes.org
SUMMARY:Up'percut Forum - Evènement startup de territoire x Coorace
DESCRIPTION:Le 17 septembre\, venez découvrir et témoigner des solutions de maintenant pour le monde de demain. \nUNE MATINEE DEDIEE AU RESEAU COORACE\n« Made in France / Made in Startup de territoires » – Visites apprenantes de 8h à 10h – Venez découvrir les solutions de territoires de Valence-Romans\, made in Startup de territoires. \nMa bouteille s’appelle revient – Après un Startup de territoires\, les citoyens se sont mobilisés pour créer un nouveau service de collecte et de lavage des bouteilles en verre utilisées par les producteurs de jus de fruits\, de bière et de vin du territoire. \nLa cité de la chaussure – En 2010\, le Groupe ARCHER était le premier à réouvrir un atelier de fabrication de chaussures après la crise importante qu’a subie la ville de Romans. En 2016\, lors de la première soirée Startup de Territoire\, un groupe de travail s’est penché pour la première fois sur l’idée d’avoir\, à Romans un lieu commun dédié à la chaussure. L’idée d’une cité de la chaussure qui regrouperait plusieurs ateliers de fabrication visitables ainsi qu’un magasin de vente des marques romanaises\, émergeait… \n« L’utilité sociale pour le territoire par le territoire » – Retours d’expériences d’entrepreneurs/euses de territoires 10h30 – 12h. Avec \n\nLaurent Pinet\, Président Coorace\,\nChristophe Chevalier\, Directeur d’Archer\,\nRomain Slitine\, Spécialiste des innovations et des transitions économiques\, sociales et politiques\,\nRenaud Chenon\, Directeur d’Isa Groupe\,\net bien d’autres…\n\nDE 12H A 21H \n\nUn forum choc qui mixera mobilisation citoyenne et laboratoire de solutions utiles et géniales pour tous les citoyens. Plus de 2000 personnes sont attendues !\nLa Place aux solutions avec des startuppers de territoire venus de toute la France qui feront des démonstrations en direct.\nDes rencontres et des échanges inspirants (conférences inversées\, débats…) avec des figures emblématiques\, des personnalités politiques\, des entrepreneurs atypiques ou des chefs d’entreprises déjà engagés dans une dynamique nouvelle d’impact positif.\nDes ateliers pour fabriquer et réparer soi-même son vélo\, sa radio\, son potager\, ses produits zéro déchets…\nLe mur des engagements où chacun peut décider\, proposer\, s’engager\nDes ateliers pédagogiques et jeux éducatifs pour petits et grands\nLe meilleur des produits locaux\nRetrouvez le programme complet en cliquant ici.\n*Covid-19 : Les gestes barrières seront appliqués\, de même que l’ensemble des normes sanitaires en vigueur.
URL:https://www.cjdes.org/evenement/uppercut-forum-evenement-startup-de-territoire-x-coorace/
LOCATION:Valence
CATEGORIES:Autre
END:VEVENT
END:VCALENDAR