BEGIN:VCALENDAR
VERSION:2.0
PRODID:-//CJDES - ECPv5.3.0//NONSGML v1.0//EN
CALSCALE:GREGORIAN
METHOD:PUBLISH
X-WR-CALNAME:CJDES
X-ORIGINAL-URL:https://www.cjdes.org
X-WR-CALDESC:évènements pour CJDES
BEGIN:VTIMEZONE
TZID:Europe/Paris
BEGIN:DAYLIGHT
TZOFFSETFROM:+0100
TZOFFSETTO:+0200
TZNAME:CEST
DTSTART:20190331T010000
END:DAYLIGHT
BEGIN:STANDARD
TZOFFSETFROM:+0200
TZOFFSETTO:+0100
TZNAME:CET
DTSTART:20191027T010000
END:STANDARD
END:VTIMEZONE
BEGIN:VEVENT
DTSTART;TZID=Europe/Paris:20191218T184500
DTEND;TZID=Europe/Paris:20191218T204500
DTSTAMP:20260421T172220
CREATED:20191211T114830Z
LAST-MODIFIED:20191211T114830Z
UID:4007-1576694700-1576701900@www.cjdes.org
SUMMARY:UP Conférence - La banquise en danger
DESCRIPTION:L’Arctique est en pole position du réchauffement climatique\, se réchauffant eux fois plus vite que le reste du globe. La surface de la banquise décroît d’environ 13% par décennie mettant en péril près de 10 700 espèces marines. A ce rythme là\, la population des ours polaires devraient diminuer de plus de deux tiers d’ici le milieu du 21e siècle ! Mais au lieu de s’en inquiéter\, certains pays voient la fonte des glaces comme une belle opportunité économique avec l’ouverture de nouvelles routes maritimes et de gisements de pétrole.\n\nComment protéger les pôles du réchauffement climatique et de la menace économique ? Pourquoi ces territoires extrêmement fragiles deviennent-ils de plus en plus attractifs ? Quels sont les risques si la banquise continue à fondre ? Pour ce dernier rendez-vous de l’année\, les UP Conferences vous emmènent en voyage\, à la découverte de ces pôles en souffrance et des enjeux associés.\n\nIntervenant.e.s : \n\n\nSandra COUTOUX – Journaliste UP le mag\n\nValérie MASSON DELMOTTE – Paléoclimatologue\, directrice de recherche au CEA\nPierre JOUVENTIN – Spécialiste de l’écologie évolutive et du comportement des oiseaux et mammifère\nAnne CHOQUET – Enseignante-chercheuse en droit à Brest Business School\n\nTarik CHEKCHAK – Directeur explorateur du pôle biomimétisme de l’institut des futurs souhaitables
URL:https://www.cjdes.org/evenement/up-conference-la-banquise-en-danger/
LOCATION:La Halle Pajol\, 20 Esplanade Nathalie Sarraute\, Paris\, 75018
CATEGORIES:Autre
END:VEVENT
END:VCALENDAR