BEGIN:VCALENDAR
VERSION:2.0
PRODID:-//CJDES - ECPv5.3.0//NONSGML v1.0//EN
CALSCALE:GREGORIAN
METHOD:PUBLISH
X-WR-CALNAME:CJDES
X-ORIGINAL-URL:https://www.cjdes.org
X-WR-CALDESC:évènements pour CJDES
BEGIN:VTIMEZONE
TZID:Europe/Paris
BEGIN:DAYLIGHT
TZOFFSETFROM:+0100
TZOFFSETTO:+0200
TZNAME:CEST
DTSTART:20180325T010000
END:DAYLIGHT
BEGIN:STANDARD
TZOFFSETFROM:+0200
TZOFFSETTO:+0100
TZNAME:CET
DTSTART:20181028T010000
END:STANDARD
END:VTIMEZONE
BEGIN:VEVENT
DTSTART;TZID=Europe/Paris:20180626T160000
DTEND;TZID=Europe/Paris:20180626T173000
DTSTAMP:20260422T044421
CREATED:20180618T160302Z
LAST-MODIFIED:20180618T160340Z
UID:2948-1530028800-1530034200@www.cjdes.org
SUMMARY:Témoignages d'entrepreneurs de l'ESS
DESCRIPTION:Dans le cadre de l’événement « Retour vers le futur »- Une journée pour aller plus loin dans son projet\, des entrepreneurs de l’ESS sont invités à livrer leurs expériences.\n\nAu programme\, des témoignages portés sur différents statuts :\n\n– Les SCOP – Romuald Coutaud – Scop-it\n– Les Coopératives d’Activité et d’Emploi – Julien Bottriaux – Entrepreneur à la CAE Clara\n– Les SCIC – Grégoire Simonnet – Scic Tréso\n– Les associations – Intervenant à confirmer\n– Les entreprises avec agrément ESUS – Iris Herbomel – Fondatrice de Kilogramme\n\nCes témoignages seront suivis d’un temps d’échange avec le public et permettront de découvrir de nouvelles formes de gouvernance et d’implication des parties prenantes ainsi que d’aborder la coopération et les formes d’entrepreneuriat dans l’économie sociale et solidaire.\n\nLe CJDES a souhaité être partenaire de cet évènement!\n\nInscription gratuite mais obligatoire !
URL:https://www.cjdes.org/evenement/temoignages-dentrepreneurs-de-less/
LOCATION:ESS’pace\, 15 Rue Jean Antoine de Baïf\, Paris\, 75013\, France
CATEGORIES:Autre
ATTACH;FMTTYPE=image/jpeg:https://www.cjdes.org/wp-content/uploads/2018/06/Df-XFfW0AA33e0.jpg
END:VEVENT
END:VCALENDAR