BEGIN:VCALENDAR
VERSION:2.0
PRODID:-//CJDES - ECPv5.3.0//NONSGML v1.0//EN
CALSCALE:GREGORIAN
METHOD:PUBLISH
X-WR-CALNAME:CJDES
X-ORIGINAL-URL:https://www.cjdes.org
X-WR-CALDESC:évènements pour CJDES
BEGIN:VTIMEZONE
TZID:Europe/Paris
BEGIN:DAYLIGHT
TZOFFSETFROM:+0100
TZOFFSETTO:+0200
TZNAME:CEST
DTSTART:20180325T010000
END:DAYLIGHT
BEGIN:STANDARD
TZOFFSETFROM:+0200
TZOFFSETTO:+0100
TZNAME:CET
DTSTART:20181028T010000
END:STANDARD
END:VTIMEZONE
BEGIN:VEVENT
DTSTART;TZID=Europe/Paris:20180531T190000
DTEND;TZID=Europe/Paris:20180531T203000
DTSTAMP:20260422T032709
CREATED:20180417T091901Z
LAST-MODIFIED:20180417T091901Z
UID:2679-1527793200-1527798600@www.cjdes.org
SUMMARY:TABLE RONDE : " Au fait\, c’est quoi le mutualisme ?
DESCRIPTION:TABLE RONDE :\n« Au fait\, c’est quoi le mutualisme ? \nOrganisée par le Groupe ESS de Sciences Po Alumni\, cette table ronde a pour objectif de faire découvrir le modèle mutualiste\, composante majeure de l’économie sociale et solidaire\, et d’expliquer comment il fonctionne aujourd’hui. \nPRESENTATION \nLe secteur mutualiste est une composante majeure de l’Economie Sociale et Solidaire (ESS). Mais qui le sait ? La « différence mutualiste » est\, en effet\, une réalité mal identifiée et souvent réduite à l’image de la « complémentaire santé ». \nLe Groupe ESS de Sciences-Po Alumni vous invite\, dans cette table ronde\, à découvrir le modèle\, ou plutôt les modèles\, mutualistes. Ses racines et son actualité\, son originalité et ses valeurs non lucratives\, sa gouvernance démocratique et ses missions sociales. \nLes formes du mutualisme au sens large dans l’assurance sont diverses aussi bien dans leurs modalités juridiques (sociétés d’assurance mutuelles\, institutions de prévoyance\, mutuelles du code de la mutualité)\, que dans leurs activités (santé\, prévoyance\, retraite\, dommages\, responsabilité…). \nElles évoluent sur des marchés particulièrement concurrentiels\, sur lesquels elles interviennent avec leurs différences mutualistes : non lucrativité ; gouvernance démocratique ; solidarité ; proximité grâce à un double ancrage territorial et professionnel. Leur défi aujourd’hui est de préserver ses spécificités tout en faisant face à la concurrence. \nA l’heure où chacun est en quête de sens pour sa vie professionnelle\, les organismes mutualistes continuent ainsi à représenter une alternative non lucrative au sein du marché. \n\nDate : 31 mai 2018 : 19h15-20h30. Le débat se poursuivra autour d’un verre. \nLieu : Paris-La Défense. B2V : 18 rue d’Alsace / Courbevoie. A 50 mètres du métro Esplanade de la Défense  (ligne 1) Parking gratuit disponible sur place. \nUn second débat sera organisé à la rentrée 2018 sur la transformation actuelle du secteur mutualiste. \n\nPROGRAMME \nIntroduction : Christine DAMIGUET\, Présidente du Groupe ESS\, Sciences-Po Alumni. \nIsabelle PECOU\, directeur général du groupe de prévoyance B2V. Valeurs et différences mutualistes. \nThierry BERNARD\, avocat\, associé de CORUS\, société d’avocats. Les gouvernances mutualistes dans le secteur des assurances. \nDominique JOSEPH\, Secrétaire générale de la Fédération Nationale de la Mutualité Française. L’engagement au service d’une gouvernance démocratique. \nPascal ANDRIEUX\, directeur des engagements sociaux et sociétaux et DG Fondation MM Handicap. \nAnimé par Pierre BERNARD\, Directeur de la communication mutualiste \nBien solidairement\, \nChristine Damiguet\nPrésidente du Groupe ESS Alumni Sc Po \n  \n 
URL:https://www.cjdes.org/evenement/table-ronde-au-fait-cest-quoi-le-mutualisme/
LOCATION:B2V / 18 rue d’Alsace / 92926 Courbevoie\, 92926\, France
CATEGORIES:Autre
ATTACH;FMTTYPE=image/jpeg:https://www.cjdes.org/wp-content/uploads/2018/04/logo-site.jpg
END:VEVENT
END:VCALENDAR