BEGIN:VCALENDAR
VERSION:2.0
PRODID:-//CJDES - ECPv5.3.0//NONSGML v1.0//EN
CALSCALE:GREGORIAN
METHOD:PUBLISH
X-WR-CALNAME:CJDES
X-ORIGINAL-URL:https://www.cjdes.org
X-WR-CALDESC:évènements pour CJDES
BEGIN:VTIMEZONE
TZID:Europe/Paris
BEGIN:DAYLIGHT
TZOFFSETFROM:+0100
TZOFFSETTO:+0200
TZNAME:CEST
DTSTART:20170326T010000
END:DAYLIGHT
BEGIN:STANDARD
TZOFFSETFROM:+0200
TZOFFSETTO:+0100
TZNAME:CET
DTSTART:20171029T010000
END:STANDARD
END:VTIMEZONE
BEGIN:VEVENT
DTSTART;TZID=Europe/Paris:20171209T140000
DTEND;TZID=Europe/Paris:20171209T210000
DTSTAMP:20260422T103324
CREATED:20171012T080314Z
LAST-MODIFIED:20171123T140914Z
UID:1680-1512828000-1512853200@www.cjdes.org
SUMMARY:Solidarithé: Un après midi militant pour découvrir et soutenir la Coopérative SCOPTI (ex-fralib)
DESCRIPTION:Dans le cadre du cycle de débats organisé par le CJDES sur « Alimentation et qualité de vie »\, le CJDES et le mouvement des SCOP vous proposent de passer un après midi en immersion dans l’aventure d’une coopérative exceptionnelle! \nDe 14h à 16h se déroulera une pièce de théatre « 1336 parole de fralibs » qui vous fera découvrir l’histoire des 1336 jours de luttes qui ont conduit à la réappropriation de l’usine Éléphant de Gemenos en coopérative. \nCette représentation sera suivi d’un débat avec l’Union régionale des SCOP et le président de la coopérative. \nAprès une petite pause et une dégustation de tisanes et de thés\, les spectateurs seront invités à participer de 16h30 à 19h à un « Hackathon Coopératif » pour agir concrètement en aidant les scopti. Marketing\, savoirs faire rédactionnel\, design\, utilisateurs des réseaux sociaux\, citoyen engagé ou simple buveur de thé\, nous avons besoins de toutes et tous pour réussir un défi: augmenter le nombre de points de ventes des scopti sur l’île-de-France! Si vous le pouvez: venez avec vos ordinateurs. \nAprès l’effort\, le CJDES vous offrira un apéritif bien mérité. \nTarif normal 10€ / tarif solidaire 5€ (les deux tarifs incluent une boite de tisane 1336 offerte). Le tarif solidaire ne sera proposé que sur place avec paiement en espèces avec l’appoint. \nPaiement et inscription obligatoire en ligne ici: https://www.eventbrite.fr/e/billets-solidarithe-un-apres-midi-militant-pour-decouvrir-et-soutenir-la-cooperative-scopti-ex-fralib-39689814303 \n  \n 
URL:https://www.cjdes.org/evenement/solidarithe-un-apres-midi-militant-pour-decouvrir-et-soutenir-la-cooperative-scopti-ex-fralib/
LOCATION:ESS’pace\, 15 Rue Jean Antoine de Baïf\, Paris\, 75013\, France
CATEGORIES:CJDES
ATTACH;FMTTYPE=image/jpeg:https://www.cjdes.org/wp-content/uploads/2017/10/cycle-alimentation-bien-vivre-Copie.jpg
END:VEVENT
END:VCALENDAR