BEGIN:VCALENDAR
VERSION:2.0
PRODID:-//CJDES - ECPv5.3.0//NONSGML v1.0//EN
CALSCALE:GREGORIAN
METHOD:PUBLISH
X-WR-CALNAME:CJDES
X-ORIGINAL-URL:https://www.cjdes.org
X-WR-CALDESC:évènements pour CJDES
BEGIN:VTIMEZONE
TZID:Europe/Paris
BEGIN:DAYLIGHT
TZOFFSETFROM:+0100
TZOFFSETTO:+0200
TZNAME:CEST
DTSTART:20180325T010000
END:DAYLIGHT
BEGIN:STANDARD
TZOFFSETFROM:+0200
TZOFFSETTO:+0100
TZNAME:CET
DTSTART:20181028T010000
END:STANDARD
END:VTIMEZONE
BEGIN:VEVENT
DTSTART;TZID=Europe/Paris:20180221T183000
DTEND;TZID=Europe/Paris:20180221T210000
DTSTAMP:20260422T090420
CREATED:20180206T101618Z
LAST-MODIFIED:20180206T143607Z
UID:2034-1519237800-1519246800@www.cjdes.org
SUMMARY:Coop'apéro du réseau Jeunes2Coop
DESCRIPTION:Coop’Apéro de Jeunes2Coop \nLe réseau des jeunes coopérateurs et coopératrices\, hébergé au sein du CJDES\, vous invite à participer à son 1er Coop’apéro de l’année 2018 ! \nLancé en 2014\, le réseau rassemble des dirigeant.es ou salarié.es en SCOP\, SCIC\, CAE\, et est ouvert plus largement aux jeunes de la coopération. Jeunes2Coop favorise les espaces de rencontres\, de partage de nos expériences et de nos nouvelles pratiques. Il valorise également la coopération auprès des jeunes et a vocation à faire entendre leur voix tout en les représentant au sein du mouvement coopératif. Adhérant non seulement aux 7 principes coopératifs\, Jeunes2Coop porte une démarche progressiste en adéquation avec ses valeurs\, qui favorise la démocratie participative\, repense la place de l’être humain par rapport au travail et défend l’égalité femmes-hommes.  \nCe Coop’Apéro\, réservé principalement aux jeunes en coopérative\, portera sur les sujets suivants :    \n–        préparation de la délégation envoyée à l’AG du YECN au Danemark en mai (réseau des jeunes coopérateurs européen)\,  \n–        développement d’une Coopérative de Jeunes Majeurs (CJM)\,  \n–        projet faisant le lien entre Coop et Numérique\, \n–        Participation au Festival international de la Paix organisé par le MRJC en août \nRendez-vous donc non pas le 22 février mais le 21 février\, à 18h30\, à ESS’pace : 15 rue Jean Antoine de Baïf\, 75013 Paris. \nN’hésitez pas à proposer à tout coopérateur ou coopératrice voulant s’impliquer dans le réseau de se joindre ! \n\n    Remarque : JavaScript est requis pour ce contenu.Aucun champ trouvé.\n\n    \n\n\n        \n        \n        \n\n 
URL:https://www.cjdes.org/evenement/slow-apero-special-cooperatives-de-jeunes-majeurs/
LOCATION:ESS’pace\, 15 Rue Jean Antoine de Baïf\, Paris\, 75013\, France
CATEGORIES:CJDES
ATTACH;FMTTYPE=image/jpeg:https://www.cjdes.org/wp-content/uploads/2017/12/SlowApero-blanc.jpg
END:VEVENT
END:VCALENDAR