BEGIN:VCALENDAR
VERSION:2.0
PRODID:-//CJDES - ECPv5.3.0//NONSGML v1.0//EN
CALSCALE:GREGORIAN
METHOD:PUBLISH
X-WR-CALNAME:CJDES
X-ORIGINAL-URL:https://www.cjdes.org
X-WR-CALDESC:évènements pour CJDES
BEGIN:VTIMEZONE
TZID:Europe/Paris
BEGIN:DAYLIGHT
TZOFFSETFROM:+0100
TZOFFSETTO:+0200
TZNAME:CEST
DTSTART:20180325T010000
END:DAYLIGHT
BEGIN:STANDARD
TZOFFSETFROM:+0200
TZOFFSETTO:+0100
TZNAME:CET
DTSTART:20181028T010000
END:STANDARD
END:VTIMEZONE
BEGIN:VEVENT
DTSTART;TZID=Europe/Paris:20180412T090000
DTEND;TZID=Europe/Paris:20180412T180000
DTSTAMP:20260422T060928
CREATED:20180403T133155Z
LAST-MODIFIED:20180403T133155Z
UID:2525-1523523600-1523556000@www.cjdes.org
SUMMARY:Salon des affaires socialement responsables
DESCRIPTION:Créé en 2008\, le Salon des Affaires Socialement Responsables est co-organisé par la CRESSOccitanie et la Région Occitanie. \nIl permet de créer des opportunités commerciales par la mise en relation des entreprises de l’ESSentre elles\, avec les collectivités et les entreprises privées hors ESS. \nDes animations spécifiques seront mises en place pour célébrer les 10 ans du salon ! \nRendez-vous de 09h à 18h à COVENTIS\, le salon des achats responsables. Entrée libre. \n\nPlus d’information sur Coventis.org
URL:https://www.cjdes.org/evenement/salon-des-affaires-socialement-responsables/
LOCATION:Corum Montpellier\, Place Charles de Gaulle\, MONTPELLIER\, 34000\, France
CATEGORIES:Autre
ATTACH;FMTTYPE=image/png:https://www.cjdes.org/wp-content/uploads/2018/04/unnamed.png
END:VEVENT
END:VCALENDAR