BEGIN:VCALENDAR
VERSION:2.0
PRODID:-//CJDES - ECPv5.3.0//NONSGML v1.0//EN
CALSCALE:GREGORIAN
METHOD:PUBLISH
X-WR-CALNAME:CJDES
X-ORIGINAL-URL:https://www.cjdes.org
X-WR-CALDESC:évènements pour CJDES
BEGIN:VTIMEZONE
TZID:Europe/Paris
BEGIN:DAYLIGHT
TZOFFSETFROM:+0100
TZOFFSETTO:+0200
TZNAME:CEST
DTSTART:20190331T010000
END:DAYLIGHT
BEGIN:STANDARD
TZOFFSETFROM:+0200
TZOFFSETTO:+0100
TZNAME:CET
DTSTART:20191027T010000
END:STANDARD
END:VTIMEZONE
BEGIN:VEVENT
DTSTART;TZID=Europe/Paris:20191218T180000
DTEND;TZID=Europe/Paris:20191218T210000
DTSTAMP:20260421T172651
CREATED:20191216T105542Z
LAST-MODIFIED:20191216T105542Z
UID:4016-1576692000-1576702800@www.cjdes.org
SUMMARY:Quelle place pour les jeunes dans la démocratie de demain ?
DESCRIPTION:Rendez-vous le mardi 17 Décembre à partir de 18h au CESE pour une conférence sur la place des jeunes dans la démocratie de demain. En présence du Secrétaire d’Etat à la Jeunesse Gabriel Attal\, les organisations évoqueront leurs propositions et le bilan de leur présence dans ces institutions depuis 2010\, puis le chercheur Tom Chevalier interviendra sur ces questions. \n\nPROGRAMME \n\n\n18h-18h30 : Accueil \n18h30-18h45 : Ouverture par Patrick Bernasconi\, Président du CESE \n18h45-19h : Introduction par Gabriel Attal\, Secrétaire d’Etat à la Jeunesse \n19h-19h45  : Quelle place pour les jeunes dans la démocratie de demain ?  Les propositions des organisations étudiantes et mouvements de jeunesse du CESE \n19h45- 20h30 : Quelle place pour ces organisations dans la réforme institutionnelle ? Tom Chevalier\, chercheur associé en sciences politiques\, Sciences Po CEE/LIEPP  \n20h30- 20h45 : Conclusion par Nicole Belloubet\, Ministre de la Justice\n20h45- 21h30 : CVerre de l’amitié
URL:https://www.cjdes.org/evenement/quelle-place-pour-les-jeunes-dans-la-democratie-de-demain/
LOCATION:CESE\, 9 place d'Iéna\, Paris\, 75016
CATEGORIES:Autre
END:VEVENT
END:VCALENDAR