BEGIN:VCALENDAR
VERSION:2.0
PRODID:-//CJDES - ECPv5.3.0//NONSGML v1.0//EN
CALSCALE:GREGORIAN
METHOD:PUBLISH
X-WR-CALNAME:CJDES
X-ORIGINAL-URL:https://www.cjdes.org
X-WR-CALDESC:évènements pour CJDES
BEGIN:VTIMEZONE
TZID:Europe/Paris
BEGIN:DAYLIGHT
TZOFFSETFROM:+0100
TZOFFSETTO:+0200
TZNAME:CEST
DTSTART:20170326T010000
END:DAYLIGHT
BEGIN:STANDARD
TZOFFSETFROM:+0200
TZOFFSETTO:+0100
TZNAME:CET
DTSTART:20171029T010000
END:STANDARD
END:VTIMEZONE
BEGIN:VEVENT
DTSTART;TZID=Europe/Paris:20171114T133000
DTEND;TZID=Europe/Paris:20171114T173000
DTSTAMP:20260422T102949
CREATED:20171010T115237Z
LAST-MODIFIED:20171010T115237Z
UID:1632-1510666200-1510680600@www.cjdes.org
SUMMARY:ProspectivESS 2017 Culture et ESS :  Labo de l'ESS
DESCRIPTION:Le secteur culturel vit actuellement deux évolutions majeures : d’une part\, l’intégration croissante des publics dans la co-construction des projets et programmations\, avec la prise en compte des droits culturels\, et d’autre part la réduction des aides publiques qui impacte fortement le développement de ces structures. Convaincu que des liens fructueux peuvent être tissés sur ces enjeux entre l’économie sociale et solidaire et le secteur culturel\, le Labo de l’ESS ESS Qu’est-ce que l’Économie sociale et solidaire (ESS) ?\nDéfinition et présentation de cette économie différente\, socialement utile\, coopérative et ancrée localement  a fait de la transition culturelle son thème d’étude pour 2017 dans le cadre du cycle ProspectivESS. \nLa première rencontre de cette ProspectivESS a eu lieu en avril 2017\, sous la forme d’un séminaire de travail ouvert aux professionnels et experts des enjeux culturels et sociaux et solidaires. Elle a permis de faire émerger les principales caractéristiques de la transition culturelle actuelle : \n\nDes projets davantage territorialisés qui conjuguent des ambitions artistiques\, urbaines\, sociales\, scientifiques et économiques dans une logique de développement local\,\nUn passage de la « démocratisation » culturelle\, à l’image des politiques d’André Malraux et Jack Lang en faveur de l’accès à la culture\, à la « démocratie » culturelle\, portée par une compréhension de la culture comme droit fondamental\,\nDe nouveaux modes de gouvernance Gouvernance Définition \,\nUne multiplication des coopérations entre les acteurs\,\nUn renouvellement des modèles économiques.\n\nTous ces points sont présentés dans le compte-rendu de cette rencontre disponible en ligne. \nLe second temps de cette ProspectivESS\, « Transitions culturelles »\, permettra d’explorer et de débattre de deux de ces enjeux : « Favoriser le développement de la coopération dans le secteur culturel » et « Construire de nouveaux modèles socio-économiques pour les entreprises culturelles ». \nCette rencontre aura lieu : Le mardi 14 novembre de 13h30 à 17h30  Au Carreau du Temple 4 rue Eugène Spuller – Paris 3e \nCet événement ProspectivESS est organisé en partenariat avec la Fondation Fondation Définition  Crédit Coopératif et le Carreau du Temple. \nAccéder au programme provisoire de la rencontre… \nJE M’INSCRIS
URL:https://www.cjdes.org/evenement/prospectivess-2017-culture-et-ess-labo-de-less/
LOCATION:carreau du temple\, 4 rue Eugène Spuller\, 75003\, 75003\, France
CATEGORIES:Autre
ATTACH;FMTTYPE=image/jpeg:https://www.cjdes.org/wp-content/uploads/2017/10/bandeauculturev7-78652.jpg
END:VEVENT
END:VCALENDAR