BEGIN:VCALENDAR
VERSION:2.0
PRODID:-//CJDES - ECPv5.3.0//NONSGML v1.0//EN
CALSCALE:GREGORIAN
METHOD:PUBLISH
X-WR-CALNAME:CJDES
X-ORIGINAL-URL:https://www.cjdes.org
X-WR-CALDESC:évènements pour CJDES
BEGIN:VTIMEZONE
TZID:Europe/Paris
BEGIN:DAYLIGHT
TZOFFSETFROM:+0100
TZOFFSETTO:+0200
TZNAME:CEST
DTSTART:20170326T010000
END:DAYLIGHT
BEGIN:STANDARD
TZOFFSETFROM:+0200
TZOFFSETTO:+0100
TZNAME:CET
DTSTART:20171029T010000
END:STANDARD
END:VTIMEZONE
BEGIN:VEVENT
DTSTART;TZID=Europe/Paris:20170913T133000
DTEND;TZID=Europe/Paris:20170914T170000
DTSTAMP:20260422T115322
CREATED:20170824T132938Z
LAST-MODIFIED:20170824T132938Z
UID:1361-1505309400-1505408400@www.cjdes.org
SUMMARY:Planète coopérative\, les coopératives pour un monde meilleur !
DESCRIPTION:En France et dans le monde\, le modèle coopératif permet à des femmes et à des hommes de proposer des réponses concrètes\, innovantes et pertinentes aux mutations économiques\, sociales et environnementales. Les coopératives accompagnent les nouveaux modes de vie et s’engagent localement en matière de transition énergétique\, d’alimentation durable\, d’accès au logement\, à la santé et à l’éducation citoyenne. Elles s’engagent aussi contre la précarisation de l’auto-entrepreneuriat et pour une économie collaborative coopérative. \nLes principes coopératifs\, universellement reconnus\, et garants des valeurs fondamentales sont au cœur de l’action des coopératives. \nÀ l’occasion des 70 ans de la loi du 10 septembre 1947 qui définit le statut coopératif\,\nCoop FR organise un événement pour faire connaître les initiatives coopératives qui sont en phase avec leur temps\, s’interroger sur le cadre juridique pour favoriser leur développement et ouvrir une réflexion sur une société plus coopérative.
URL:https://www.cjdes.org/evenement/planete-cooperative-les-cooperatives-pour-un-monde-meilleur/
LOCATION:Maison de la Chimie\, 28 rue Saint-Dominique\, Paris\, 75007
CATEGORIES:Autre
ORGANIZER;CN="":MAILTO:planete-cooperative@ptolemee.com
END:VEVENT
END:VCALENDAR