BEGIN:VCALENDAR
VERSION:2.0
PRODID:-//CJDES - ECPv5.3.0//NONSGML v1.0//EN
CALSCALE:GREGORIAN
METHOD:PUBLISH
X-WR-CALNAME:CJDES
X-ORIGINAL-URL:https://www.cjdes.org
X-WR-CALDESC:évènements pour CJDES
BEGIN:VTIMEZONE
TZID:Europe/Paris
BEGIN:DAYLIGHT
TZOFFSETFROM:+0100
TZOFFSETTO:+0200
TZNAME:CEST
DTSTART:20180325T010000
END:DAYLIGHT
BEGIN:STANDARD
TZOFFSETFROM:+0200
TZOFFSETTO:+0100
TZNAME:CET
DTSTART:20181028T010000
END:STANDARD
END:VTIMEZONE
BEGIN:VEVENT
DTSTART;TZID=Europe/Paris:20180413T090000
DTEND;TZID=Europe/Paris:20180413T110000
DTSTAMP:20260422T061204
CREATED:20180412T102424Z
LAST-MODIFIED:20180412T102424Z
UID:2623-1523610000-1523617200@www.cjdes.org
SUMMARY:Orse: French Impact et ESS\, enjeux et perspectives
DESCRIPTION:L’Observatoire de la Responsabilité Sociétale des Entreprises (Orse) organise une réunion d’échanges le vendredi 13 avril 2018 dans les locaux de la Fédération nationale des Caisses d’Epargne à Paris de 9H00 à 11H00. \nSur la thématique « French Impact et ESS: Enjeux et perspectives« \, le club Finance de l’Orse s’interrogera sur : \n\n​Où en est-on un peu plus de trois ans après l’adoption de la loi Hamon ?\nQu’en est-il du financement des entreprises de l’ESS ?\n\nProgramme\n  \nAccueil​ par Cédric Turini\, Responsable RSE à la Fédération nationale des Caisses d’Epargne \n1ère partie : État des lieux et principales problématiques\n\nL’ESS en mutation : intervention de Charles-Benoit Heidsieck\, Président fondateur du Rameau.\nLe financement des entreprises de l’ESS : intervention de Frédéric Tiberghien\, Président de Finansol\, auteur du rapport intitulé « Le financement des entreprises de l’Économie sociale et solidaire » et ancien Président de l’Orse.\n\n2ème partie : Perspectives de l’ESS\n\nQuelles sont les conditions de succès pour que l’ESS poursuive son développement ?\nQuels sont les freins éventuels à surmonter ?\n\nModérateur : Daniel Lebègue\, Président de l’Orse.
URL:https://www.cjdes.org/evenement/orse-french-impact-et-ess-enjeux-et-perspectives/
LOCATION:Fédération nationale des Caisses d’Epargne\, Paris
CATEGORIES:Autre
ATTACH;FMTTYPE=image/jpeg:https://www.cjdes.org/wp-content/uploads/2018/04/orse.jpg
END:VEVENT
END:VCALENDAR