BEGIN:VCALENDAR
VERSION:2.0
PRODID:-//CJDES - ECPv5.3.0//NONSGML v1.0//EN
CALSCALE:GREGORIAN
METHOD:PUBLISH
X-WR-CALNAME:CJDES
X-ORIGINAL-URL:https://www.cjdes.org
X-WR-CALDESC:évènements pour CJDES
BEGIN:VTIMEZONE
TZID:Europe/Paris
BEGIN:DAYLIGHT
TZOFFSETFROM:+0100
TZOFFSETTO:+0200
TZNAME:CEST
DTSTART:20170326T010000
END:DAYLIGHT
BEGIN:STANDARD
TZOFFSETFROM:+0200
TZOFFSETTO:+0100
TZNAME:CET
DTSTART:20171029T010000
END:STANDARD
END:VTIMEZONE
BEGIN:VEVENT
DTSTART;TZID=Europe/Paris:20171110T180000
DTEND;TZID=Europe/Paris:20171110T233000
DTSTAMP:20260422T103101
CREATED:20171010T120028Z
LAST-MODIFIED:20171108T172708Z
UID:1644-1510336800-1510356600@www.cjdes.org
SUMMARY:Nuit des étudiants solidaires de France
DESCRIPTION:Evènement d’ouverture de la semaine étudiante de l’ESS\, la Nuit des étudiants solidaires de France est un temps qui vous est ouvert à toute la jeunesse généreuse et soucieuse de l’autre. C’est un moment festif et prospectif au cours duquel les enjeux d’avenir de l’économie sociale et du développement durable seront évoqués. \n \nPour qui ?\nPour toi qui vient de t’engager dans un service civique\, pour toi qui fait des études en développement durable\, en entrepreneuriat social\, en ESS\, en gestion des entreprises associatives…pour vous qui êtes bénévoles associatifs\, pour toi qui cherche un emploi dans une ONG\, une entreprise de l’économie sociale ou dans l’aide à domicile\, pour nous tous qui voulons ou qui avons déjà fait le choix de placer l’engagement et la solidarité au cœur de notre philosophie de vie. \nPour vous aussi\, les professionnels déjà bien engagés dans votre carrière\, qui souhaitez venir à la rencontre de la relève ! \nQuand ?\nLe vendredi 10 novembre à partir de 18h.  \nOù ?\nA Paris (lieu central). \nVenir de province : le déplacement des 60 premiers jeunes de province qui s’inscriront sera pris en charge à hauteur d’un forfait de 80€ttc pour le train/covoiturage/bus et le logement sera pris en charge (auberge de jeunesse). Nous appliquons la politique du premier arrivé\, premier servi. Un remboursement sera effectué par virement bancaire sur présentation de justificatifs du voyage lors de l’évènement auprès du stand dédié. \nAU PROGRAMME\n17h30:  ACCUEIL \nPuis: Lancement de la soirée par les organisateurs et les partenaires + ICEBREAKER géant \nTEMPS 1 \nLa soirée se poursuit avec un world café collectif autour de sujets de société « Dans un monde idéal\, ….. »: \nl’association de mes rêves pourrait… \nmon campus universitaire serait… \nUne campagne de prévention à destination des jeunes serait… \nLe ministre de l’éducation ferait… \nLes hommes/femmes politiques en charge de l’économie sociale et solidaire devraient… \nA toi de venir exprimer la manière dont tu vois les choses et échanger avec des jeunes de toute la France! Des personnalités viendront écouter ce que tu as à dire…. \nTEMPS 2 \nSuivra un débat de restitution de ce world café avec des personnalités qui viendront réagir aux idées que les participants auront soulevées! \nTEMPS 3 \nEt après…fiesta! Musique\, cocktail et papote\, une belle soirée quoi! C’est aussi un moment pendant lequel tu pourras échanger et commencer à te constituer ton réseau pro! \nJE M’INSCRIS
URL:https://www.cjdes.org/evenement/nuit-des-etudiants-solidaires-de-france/
CATEGORIES:CJDES
ATTACH;FMTTYPE=image/jpeg:https://www.cjdes.org/wp-content/uploads/2017/10/CJDES_phbweb_29__ACH7842_-_jeremie_wach-chastel2.jpg
END:VEVENT
END:VCALENDAR