BEGIN:VCALENDAR
VERSION:2.0
PRODID:-//CJDES - ECPv5.3.0//NONSGML v1.0//EN
CALSCALE:GREGORIAN
METHOD:PUBLISH
X-WR-CALNAME:CJDES
X-ORIGINAL-URL:https://www.cjdes.org
X-WR-CALDESC:évènements pour CJDES
BEGIN:VTIMEZONE
TZID:Europe/Paris
BEGIN:DAYLIGHT
TZOFFSETFROM:+0100
TZOFFSETTO:+0200
TZNAME:CEST
DTSTART:20170326T010000
END:DAYLIGHT
BEGIN:STANDARD
TZOFFSETFROM:+0200
TZOFFSETTO:+0100
TZNAME:CET
DTSTART:20171029T010000
END:STANDARD
END:VTIMEZONE
BEGIN:VEVENT
DTSTART;TZID=Europe/Paris:20171109T093000
DTEND;TZID=Europe/Paris:20171109T170000
DTSTAMP:20260422T115148
CREATED:20171010T131450Z
LAST-MODIFIED:20171010T131450Z
UID:1658-1510219800-1510246800@www.cjdes.org
SUMMARY:L'Uniopss fête ses 70 ans !
DESCRIPTION:Le 9 novembre 2017\, venez fêter votre anniversaire !​​\nCet anniversaire\, c’est votre anniversaire\, celui de tous ceux qui s’engagent aux côtés des hommes et des femmes que la société exclut. \nPour célébrer cette histoire qui guide nos pas depuis tant d’années\, nous avons voulu que la fête soit belle. Bien sûr\, nous reviendrons\, avec des personnalités de renom\, sur la mémoire de notre Union qui a réussi le tour de force d’unir les différents horizons de la solidarité\, mais nous nous projetterons surtout vers un avenir encore à construire… dans une ambiance festive ! \nProgramme\n9H30 à 10H \n\nAccueil des participants\nProjection du film : « Qu’est-ce que l’Uniopss a changé dans la vie des associations ? »\n\n10H à 10H30 \n\nIntroduction de la Maire de Paris ou de son représentant\nMot d’accueil de Patrick Doutreligne\, Président de l’Uniopss\nProjection du film : « Qu’est-ce que l’Uniopss a changé dans la lutte contre l’exclusion ? »\n\n10H30 à 11H30 \nTable ronde 1 : « L’Uniopss et les solidarités : une sacrée histoire » \n\nProjection du film : « Qu’est-ce que l’Uniopss a changé dans les politiques d’autonomie »\nTable ronde autour de l’histoire et du rôle de l’Uniopss dans la construction des politiques sociales\nProjection du film : « Qu’est-ce que l’Uniopss a changé pour la jeunesse ? »\n\n  \n11H30 à 12H30 \nTable ronde 2 – Quels défis pour l’Uniopss dans les prochaines décennies ? \n12H30 à 13H30 \nCocktail et temps d’échanges \n13H30 à 14H \nVisite guidée de l’exposition photos et de la vidéo réalisée à l’occasion de la journée organisée à Disneyland Paris par l’Uniopss\, la Mairie de Paris et plusieurs adhérents nationaux. \n14H15 à 14H30 \n\nDiffusion du film « Faites buzzer les solidarités » réalisé par les volontaires en Service Civique de l’Uniopss\nPrésentation du module historique « 10 minutes pour comprendre l’histoire de l’Uniopss »\n\n14H30 à 15H15 \nPrésentation des Jeux Olympiques et Paralympiques Paris 2024 sur le thème : quelle place de l’Uniopss pour promouvoir les valeurs du « Paralympisme ? » Avec la présence de plusieurs champions olympiques et paralympiques (sous réserve). \n15H15 à 16H \nIntervention « en live » de plusieurs artistes surprise (sous réserve) \n16H \nGâteau d’anniversaire réalisé par l’école de cuisine des Apprentis d’Auteuil et temps festif musical. \n​Les places étant limitées\, ​il est indispensable\, pour être invité\, de se préinscrire au plus vite en utilisant le lien ci-dessous: \nhttps://fr.surveymonkey.com/r/3KZ3SR8 \nLes invitations officielles seront envoyées courant octobre\, en lien avec la Mairie de Paris. \nVisitez la page dédiée à cette manifestation sur le site de l’Uniopss !
URL:https://www.cjdes.org/evenement/luniopss-fete-ses-70-ans/
LOCATION:Hotel de Ville Paris\, Place de l'Hôtel de Ville\, paris\, 75004\, France
CATEGORIES:Autre
ATTACH;FMTTYPE=image/jpeg:https://www.cjdes.org/wp-content/uploads/2017/10/logo_70_ans.jpg
END:VEVENT
END:VCALENDAR