BEGIN:VCALENDAR
VERSION:2.0
PRODID:-//CJDES - ECPv5.3.0//NONSGML v1.0//EN
CALSCALE:GREGORIAN
METHOD:PUBLISH
X-WR-CALNAME:CJDES
X-ORIGINAL-URL:https://www.cjdes.org
X-WR-CALDESC:évènements pour CJDES
BEGIN:VTIMEZONE
TZID:Europe/Paris
BEGIN:DAYLIGHT
TZOFFSETFROM:+0100
TZOFFSETTO:+0200
TZNAME:CEST
DTSTART:20180325T010000
END:DAYLIGHT
BEGIN:STANDARD
TZOFFSETFROM:+0200
TZOFFSETTO:+0100
TZNAME:CET
DTSTART:20181028T010000
END:STANDARD
END:VTIMEZONE
BEGIN:VEVENT
DTSTART;TZID=Europe/Paris:20180621T143000
DTEND;TZID=Europe/Paris:20180621T163000
DTSTAMP:20260422T044442
CREATED:20180618T102429Z
LAST-MODIFIED:20180618T102429Z
UID:2942-1529591400-1529598600@www.cjdes.org
SUMMARY:Les rencontres du mouvement associatif
DESCRIPTION:Rapport « Pour une politique de vie associative ambitieuse\net le développement d’une société de l’engagement »  \n \nQue retenir? Quelles perspectives? \nRDV le 21 juin 2018\nde 14h30 à 16h30  \nAu FIAP Jean Monnet \nSalle OSLO \n30 Rue Cabanis\, 75014 Paris
URL:https://www.cjdes.org/evenement/les-rencontres-du-mouvement-associatif/
CATEGORIES:Autre
END:VEVENT
END:VCALENDAR