BEGIN:VCALENDAR
VERSION:2.0
PRODID:-//CJDES - ECPv5.3.0//NONSGML v1.0//EN
CALSCALE:GREGORIAN
METHOD:PUBLISH
X-WR-CALNAME:CJDES
X-ORIGINAL-URL:https://www.cjdes.org
X-WR-CALDESC:évènements pour CJDES
BEGIN:VTIMEZONE
TZID:Europe/Paris
BEGIN:DAYLIGHT
TZOFFSETFROM:+0100
TZOFFSETTO:+0200
TZNAME:CEST
DTSTART:20180325T010000
END:DAYLIGHT
BEGIN:STANDARD
TZOFFSETFROM:+0200
TZOFFSETTO:+0100
TZNAME:CET
DTSTART:20181028T010000
END:STANDARD
END:VTIMEZONE
BEGIN:VEVENT
DTSTART;TZID=Europe/Paris:20181116T080000
DTEND;TZID=Europe/Paris:20181116T143000
DTSTAMP:20260422T002757
CREATED:20181105T130652Z
LAST-MODIFIED:20181105T130652Z
UID:3407-1542355200-1542378600@www.cjdes.org
SUMMARY:Les nouvelles frontières de l’Assurance
DESCRIPTION:Alexandre ANDRÉ\, Directeur Général de la Fabrique d’Assurance\, a le plaisir de vous convier autour de deux tables rondes : \nTable ronde 1 : « L’Assurance face aux défis des nouvelles formes de travail » \nTable ronde 2 : « Science & Conscience – Intelligence artificielle & Ethique » \n PETIT DÉJEUNER D’ACCUEIL \n(8h00–9h00) \n MOT D’ACCUEIL \n(9h00-9h15) \nPar Patrick BERNASCONI\, Président du Conseil économique\, social et environnemental \n DISCOURS D’OUVERTURE \n(9h15-9h30) \nPar Jean-Louis BANCEL\, Président de la Fabrique d’Assurance\, Président de la Mutuelle Centrale des Finances\, et Alexandre ANDRÉ\, Directeur Général de la Fabrique d’Assurance \nRestitution des contributions au Livre Blanc 2018 \n «L’Assurance face aux défis des nouvelles formes de travail » \n(9h30-10h00) \nArnaud CHNEIWEISS\, Délégué général de la Fédération Française de l’Assurance \nAlbert LAUTMAN\, Directeur général de la Fédération Nationale de la Mutualité Française \nPierre MAYEUR\, Directeur Général de l’OCIRP \n TABLE RONDE 1 \n(10h00–10h45) \n«L’Assurance face aux défis des nouvelles formes de travail » \n Carole COUVERT\, Vice-Présidente du Conseil économique\, social et environnemental \nStéphane JUNIQUE\, Vice-Président délégué aux questions de santé et au projet stratégique du mouvement mutualiste à la Fédération Nationale de la Mutualité Française\, Président du Groupe de la Mutualité au Conseil économique\, social et environnemental \nAntoine LISSOWSKI\, Directeur général par intérim du Groupe CNP Assurances \nTABLE RONDE 2 \n(11h00–12h30) \n« Science & Conscience – Intelligence artificielle & Ethique » \n Cette tribune sera le lieu d’ouverture des ateliers thématiques pour l’année 2019 : \nCynthia FLEURY\,  Philosophe et psychanalyste\, Professeur au Conservatoire National des Arts et Métiers\, titulaire de la Chaire « Humanités et Santé » (sous réserve) \nAxelle LEMAIRE\, Ancienne Secrétaire d’État chargée du Numérique et de l’Innovation \nPascal DEMURGER\, Directeur général du Groupe MAIF\, Président de l’AAM et Vice-Président de la Fédération Française de l’Assurance \nPierre MAYEUR\, Directeur général de l’OCIRP \n Conclusion de la table ronde par Monsieur Gilles de MARGERIE\, Commissaire général de France Stratégie \n DISCOURS DE CLOTURE \n(12h30-13h00) \nPar Jean-Louis BANCEL\, Président de la Fabrique d’Assurance \nCOCKTAIL-DÉJEUNATOIRE\n(13h00–14h30)
URL:https://www.cjdes.org/evenement/les-nouvelles-frontieres-de-lassurance/
LOCATION:Conseil économique\, social et environnemental\, 9 Place d'Iéna\, Paris\, 75016
CATEGORIES:Autre
END:VEVENT
END:VCALENDAR