BEGIN:VCALENDAR
VERSION:2.0
PRODID:-//CJDES - ECPv5.3.0//NONSGML v1.0//EN
CALSCALE:GREGORIAN
METHOD:PUBLISH
X-WR-CALNAME:CJDES
X-ORIGINAL-URL:https://www.cjdes.org
X-WR-CALDESC:évènements pour CJDES
BEGIN:VTIMEZONE
TZID:Europe/Paris
BEGIN:DAYLIGHT
TZOFFSETFROM:+0100
TZOFFSETTO:+0200
TZNAME:CEST
DTSTART:20170326T010000
END:DAYLIGHT
BEGIN:STANDARD
TZOFFSETFROM:+0200
TZOFFSETTO:+0100
TZNAME:CET
DTSTART:20171029T010000
END:STANDARD
END:VTIMEZONE
BEGIN:VEVENT
DTSTART;TZID=Europe/Paris:20171108T191500
DTEND;TZID=Europe/Paris:20171108T210000
DTSTAMP:20260422T115400
CREATED:20171020T093402Z
LAST-MODIFIED:20171020T093402Z
UID:1732-1510168500-1510174800@www.cjdes.org
SUMMARY:Le travail du clic : économie de la contribution ou exploitation des internautes ?
DESCRIPTION:Une rencontre-débat « Fond’après » organisée par la Fonda\, mercredi 8 novembre 2017 au NUMA à Paris de 19h15 à 21h pour explorer et réfléchir à la nature\, au statut et à la reconnaissance des contributions des internautes. \nLa rencontre-débat sera animée par Bastien Engelbach\, coordonnateur des programmes de la Fonda\, avec la participation de \n\nPierre-Yves Gosset de Framasoft\nLionel Maurel de SavoirsCom1\nun représentant de la Fondation SNCF (sous réserve)\n\nInscription gratuite mais obligatoire par mail : fonda[AT]fonda.asso.fr \nAvec l’avènement du web 2.0 au milieu des années 2000\, les pratiques numériques ont connu une mutation significative : là où il fallait être en mesure de coder et programmer pour interagir sur la toile\, grâce au développement de nouvelles technologies et de nouveaux protocoles informatiques\, désormais toutes les personnes qui le souhaitent sont en mesure de tisser un bout de cette toile sans fin. Le web 2.0 a permis de développer massivement l’aspect collaboratif du web\, ouvrant la possibilité pour tout utilisateur de contribuer à l’échange d’informations\, au partage voire à la production de la connaissance. \nCette nouvelle posture active interroge sur la nature et le statut de ces contributions. Qu’importe la plateforme et l’utilité finale de ces contributions\, il s’agit généralement d’un travail qui vise à améliorer un jeu de données. Cette amélioration peut être un élément essentiel du modèle économique de certaines plateformes numériques. \nSi ces contributions sont une forme de travail\, comment ce dernier est-il reconnu et encadré ? Quels sont les mécanismes de reconnaissance de la production de ces individus consommateurs/producteurs ?  Telles seront les questions abordées durant cette rencontre-débat Fond’après. \nPour vous inscrire\, merci de nous contacter par mail : fonda[AT]fonda.asso.fr
URL:https://www.cjdes.org/evenement/le-travail-du-clic-economie-de-la-contribution-ou-exploitation-des-internautes/
LOCATION:NUMA\, 39\, rue du Caire\, Paris\, 75002\, France
CATEGORIES:Autre
END:VEVENT
END:VCALENDAR