BEGIN:VCALENDAR
VERSION:2.0
PRODID:-//CJDES - ECPv5.3.0//NONSGML v1.0//EN
CALSCALE:GREGORIAN
METHOD:PUBLISH
X-WR-CALNAME:CJDES
X-ORIGINAL-URL:https://www.cjdes.org
X-WR-CALDESC:évènements pour CJDES
BEGIN:VTIMEZONE
TZID:Europe/Paris
BEGIN:DAYLIGHT
TZOFFSETFROM:+0100
TZOFFSETTO:+0200
TZNAME:CEST
DTSTART:20180325T010000
END:DAYLIGHT
BEGIN:STANDARD
TZOFFSETFROM:+0200
TZOFFSETTO:+0100
TZNAME:CET
DTSTART:20181028T010000
END:STANDARD
END:VTIMEZONE
BEGIN:VEVENT
DTSTART;TZID=Europe/Paris:20181122T140000
DTEND;TZID=Europe/Paris:20181122T173000
DTSTAMP:20260421T230448
CREATED:20181125T180049Z
LAST-MODIFIED:20181125T180049Z
UID:3476-1542895200-1542907800@www.cjdes.org
SUMMARY:Le Rendez-vous de l'accessibilité numérique
DESCRIPTION:Simplon.co est heureux de vous annoncer son premier Rendez-vous de l’accessibilité numérique ! \nAprès l’ouverture par Madame Antoinette GUHL Adjointe à la Maire de Paris\, chargée des questions relatives à l’ESS\, à l’innovation sociale et à l’économie circulaire\, une table ronde abordera la question de mobilisation des acteurs privés et publics pour rendre leurs sites internet et applications mobiles accessibles aux personnes en situation de handicap. \n14h : Accueil du public \n14h20 – 14h30 : Ouverture par Monsieur François Durollet\, Directeur Général de Simplon.co \n14h30 – 14h45 : Introduction par Madame Antoinette Guhl\, Adjointe à la Maire de Paris\, chargée des questions relatives à l’ESS\, à l’innovation sociale et à l’économie circulaire \n14h45 – 15h30 : Table ronde qui abordera la question de la mobilisation des acteurs privés et associatifs pour rendre leur site internet accessible et application mobile aux personnes en situation de handicap. \n15h30 – 15h45 : Pause \n15h45 – 17h30 : \n– Atelier de mise en situation de handicap devant un site web animé par l’association Valentin Haüy\n– Atelier « Mettre du contenu accessible sur son site web » animé par Temesis\n– Atelier « Choisir un thème adapté et comment tester rapidement son niveau d’accessibilité » animé par Tanaguru (Oceane Consulting)\n– Atelier Fablab animé par les équipes de Simplon.co \nLieu : 4 rue Serpollet 75020 Paris\nDate : le 22 novembre\nHoraires : 14h à 17h30\nPour s’inscrire c’est par là : https://simplonaccess.typeform.com/to/glTwCa\nUne interprétation LSF (Langues des Signes Françaises) sera faite lors de cet événement.
URL:https://www.cjdes.org/evenement/le-rendez-vous-de-laccessibilite-numerique/
CATEGORIES:Autre
END:VEVENT
END:VCALENDAR