BEGIN:VCALENDAR
VERSION:2.0
PRODID:-//CJDES - ECPv5.3.0//NONSGML v1.0//EN
CALSCALE:GREGORIAN
METHOD:PUBLISH
X-WR-CALNAME:CJDES
X-ORIGINAL-URL:https://www.cjdes.org
X-WR-CALDESC:évènements pour CJDES
BEGIN:VTIMEZONE
TZID:Europe/Paris
BEGIN:DAYLIGHT
TZOFFSETFROM:+0100
TZOFFSETTO:+0200
TZNAME:CEST
DTSTART:20180325T010000
END:DAYLIGHT
BEGIN:STANDARD
TZOFFSETFROM:+0200
TZOFFSETTO:+0100
TZNAME:CET
DTSTART:20181028T010000
END:STANDARD
END:VTIMEZONE
BEGIN:VEVENT
DTSTART;TZID=Europe/Paris:20180307T080000
DTEND;TZID=Europe/Paris:20180307T170000
DTSTAMP:20260422T073710
CREATED:20180307T122711Z
LAST-MODIFIED:20180307T123132Z
UID:2267-1520409600-1520442000@www.cjdes.org
SUMMARY:Le Festival Vidéo des Alternatives Solidaires lance son appel à courts-métrages
DESCRIPTION:  \n \nLe Festival Vidéo des Alternatives Solidaires (77) lance son appel à court-métrage pour sa 9ème édition\, le 28 septembre. Il souhaite valoriser par l’image les innovations sociales en faveur de la solidarité\, avec une dimension alternative. \n  \nOrganisé en Seine-et-Marne par la Chaire ESS de l’UPEM (Université Paris-Est Marne-la-Vallée) en collaboration avec Rapsode Production\, dans le cadre de la Journée de l’Économie Sociale et Solidaire\, le Festival Vidéo des Alternatives Solidaires entre dans sa 9e édition. Objectif : « valoriser par l’image les réalités et les innovations sociales en faveur de la solidarité avec une dimension alternative ».
URL:https://www.cjdes.org/evenement/le-festival-video-des-alternatives-solidaires-lance-son-appel-a-courts-metrages/
CATEGORIES:Autre
ATTACH;FMTTYPE=image/jpeg:https://www.cjdes.org/wp-content/uploads/2018/03/Logo-videos-solidaire2018-300x283.jpg
END:VEVENT
END:VCALENDAR