BEGIN:VCALENDAR
VERSION:2.0
PRODID:-//CJDES - ECPv5.3.0//NONSGML v1.0//EN
CALSCALE:GREGORIAN
METHOD:PUBLISH
X-WR-CALNAME:CJDES
X-ORIGINAL-URL:https://www.cjdes.org
X-WR-CALDESC:évènements pour CJDES
BEGIN:VTIMEZONE
TZID:Europe/Paris
BEGIN:DAYLIGHT
TZOFFSETFROM:+0100
TZOFFSETTO:+0200
TZNAME:CEST
DTSTART:20180325T010000
END:DAYLIGHT
BEGIN:STANDARD
TZOFFSETFROM:+0200
TZOFFSETTO:+0100
TZNAME:CET
DTSTART:20181028T010000
END:STANDARD
END:VTIMEZONE
BEGIN:VEVENT
DTSTART;TZID=Europe/Paris:20180918T183000
DTEND;TZID=Europe/Paris:20180918T223000
DTSTAMP:20260422T015450
CREATED:20180802T091110Z
LAST-MODIFIED:20180911T084216Z
UID:3192-1537295400-1537309800@www.cjdes.org
SUMMARY:Le CJDES fait sa rentrée !
DESCRIPTION:Les congés d’été derrière nous\, c’est le moment de nous retrouver ! Le CJDES vous invite à son slow apéro de rentrée. \nLes slow apéros sont des moments conviviaux ouverts à tous. Véritables temps d’échanges\, ils permettent de rencontrer des personnes engagées dans les différents secteurs de l’ESS\, d’échanger sur les projets à venir et de connaître les membres de l’association autour d’un verre. Si tu viens pour la première fois n’hésite pas à nous le dire lors de ton inscription\, un militant de l’association t’accueillera. \n\n    Remarque : JavaScript est requis pour ce contenu.
URL:https://www.cjdes.org/evenement/le-cjdes-fait-sa-rentree/
LOCATION:Le formidable\, 2 avenue Jean Jaurès\, Paris\, 75019\, France
CATEGORIES:CJDES
ATTACH;FMTTYPE=image/jpeg:https://www.cjdes.org/wp-content/uploads/2018/08/kelsey-chance-575535-unsplash.jpg
END:VEVENT
END:VCALENDAR