BEGIN:VCALENDAR
VERSION:2.0
PRODID:-//CJDES - ECPv5.3.0//NONSGML v1.0//EN
CALSCALE:GREGORIAN
METHOD:PUBLISH
X-WR-CALNAME:CJDES
X-ORIGINAL-URL:https://www.cjdes.org
X-WR-CALDESC:évènements pour CJDES
BEGIN:VTIMEZONE
TZID:Europe/Paris
BEGIN:DAYLIGHT
TZOFFSETFROM:+0100
TZOFFSETTO:+0200
TZNAME:CEST
DTSTART:20180325T010000
END:DAYLIGHT
BEGIN:STANDARD
TZOFFSETFROM:+0200
TZOFFSETTO:+0100
TZNAME:CET
DTSTART:20181028T010000
END:STANDARD
END:VTIMEZONE
BEGIN:VEVENT
DTSTART;TZID=Europe/Paris:20180111T131500
DTEND;TZID=Europe/Paris:20180111T180000
DTSTAMP:20260422T073259
CREATED:20171222T145355Z
LAST-MODIFIED:20171222T145418Z
UID:1858-1515676500-1515693600@www.cjdes.org
SUMMARY:La loi ESS\, 3 ans plus tard
DESCRIPTION:L’Addes\, en partenariat avec le CNCRESS et la Cress\, consacre un séminaire au périmètre de l’ESS et à la mesure de l’impact social. \nDe 13h15 à 18h\, \nà Nanterre. \nCrédit coopératif\, 12 bd Pesaro. \nInscription et programme : http://addes.asso.fr/pec-events/seminaire-addes-cress-ile-de-france-la-loi-ess-3-ans-plus-tard-jeudi-11-janvier-2018/ \nPROGRAMME \n13h 15 : accueil \n13h 30 : Introduction par Edith ARCHAMBAULT \n14 h00 : L’élargissement du champ de l’ESS suite à la loi de 2014\, animé par Chloé LEUREAUD\, CNCRESS \n⇒résultats présentés par l’Observatoire national de l’ESS\,  Benjamin ROGER et Camille AZIERE\, CNCRESS \n⇒mise en oeuvre de l’agrément ESUS\, Léo VOISIN\, CRESS Ile-de-France \n16 h00 : Le guide d’amélioration des bonnes pratiques dans l’ESS et l’évaluation de l’impact social : quels enjeux ?\, animé par Hervé DEFALVARD\, ADDES \n⇒le guide\, Gérard LESEUL\, président de la commission gouvernance du guide \n⇒l’exemple d’une entreprise ayant initié une démarche d’amélioration \n⇒l’évaluation d’impact\, Adrien BAUDET\, doctorant HEC \n18h 00 : Clôture par Eric FORTI\, CRESS Ile-de-France \nLieu : Crédit Coopératif – Coop forum\, 12 boulevard de Pesaro 92000 NANTERRE. RER A –  station Nanterre-préfecture\, sortie 4 « Les terrasses »
URL:https://www.cjdes.org/evenement/la-loi-ess-3-ans-plus-tard/
CATEGORIES:Autre
END:VEVENT
END:VCALENDAR