BEGIN:VCALENDAR
VERSION:2.0
PRODID:-//CJDES - ECPv5.3.0//NONSGML v1.0//EN
CALSCALE:GREGORIAN
METHOD:PUBLISH
X-WR-CALNAME:CJDES
X-ORIGINAL-URL:https://www.cjdes.org
X-WR-CALDESC:évènements pour CJDES
BEGIN:VTIMEZONE
TZID:Europe/Paris
BEGIN:DAYLIGHT
TZOFFSETFROM:+0100
TZOFFSETTO:+0200
TZNAME:CEST
DTSTART:20180325T010000
END:DAYLIGHT
BEGIN:STANDARD
TZOFFSETFROM:+0200
TZOFFSETTO:+0100
TZNAME:CET
DTSTART:20181028T010000
END:STANDARD
END:VTIMEZONE
BEGIN:VEVENT
DTSTART;TZID=Europe/Paris:20180323T100000
DTEND;TZID=Europe/Paris:20180323T180000
DTSTAMP:20260422T061321
CREATED:20180320T110733Z
LAST-MODIFIED:20180320T110733Z
UID:2451-1521799200-1521828000@www.cjdes.org
SUMMARY:Journée de mobilisation : Quel modèle socio-économique pour l’Economie solidaire ?
DESCRIPTION:Le Mouvement pour l’Economie Solidaire (MES)organise une journée de mobilisation pour renforcer les échanges et la coopération autour des enjeux économiques et de l’accompagnement des structures de l’ESS : Quel modèle socio-économique pour l’Economie solidaire ? \n\n\nAvec cette journée de mobilisation\, le MES met en avant la nécessité pour les acteurs de l’économie solidaire de se mobiliser et de se rassembler pour réfléchir ensemble aux modèles socio-économiques à construire pour faire face aux contextes de grandes mutations économique et politique de la France. \nUne invitation pour les organisations et entreprises de l’ESS\, pour les membres du MES et ses partenaires\, ainsi que pour les citoyen.ne.s. \n\n\n\n\nProgramme de la journée :\n10h – 11h30 : Table ronde – Quel modèle socio-économique pour l’Economie solidaire ? \n11h30 – 13h : Deux ateliers \n\nQuelle coopération économique sur les territoires ?\nQuelle contractualisation avec les politiques publiques ? Comment initier et co-construire des politiques publiques pour une transition écologique et solidaire du local à l’international ?\n\n14h – 15h30 : Deux ateliers \n\nQuels financements pour les initiatives solidaires ? Hybridation des ressources\, analyse critique… : quelle stratégie collective sur cette question ?\nQuelles forces des initiatives et mouvements ? Comment favoriser la convergence avec les mouvements sociaux\, améliorer la visibilité et la lisibilité de nos actions ?\n\n16h – 17h30 : Débat : Quelles propositions pour se renforcer ? Un temps de propositions concrètes. \n \nPour en savoir plus (Inscription et contact)\, rendez-vous dans la rubrique actualité sur le site du MES. \n\n \n\n\nPostez un commentaire\n\n\n\n\n\n\nAgenda\n\n\n\n\n\n \n\n\n 
URL:https://www.cjdes.org/evenement/journee-de-mobilisation-quel-modele-socio-economique-pour-leconomie-solidaire/
LOCATION:la Maison des Réseaux artistiques et culturelles\, 221 rue de Belleville\, Paris 19ème
CATEGORIES:Autre
ATTACH;FMTTYPE=image/jpeg:https://www.cjdes.org/wp-content/uploads/2018/03/untitled-1-2-b8d6f.jpg
END:VEVENT
END:VCALENDAR