BEGIN:VCALENDAR
VERSION:2.0
PRODID:-//CJDES - ECPv5.3.0//NONSGML v1.0//EN
CALSCALE:GREGORIAN
METHOD:PUBLISH
X-WR-CALNAME:CJDES
X-ORIGINAL-URL:https://www.cjdes.org
X-WR-CALDESC:évènements pour CJDES
BEGIN:VTIMEZONE
TZID:Europe/Paris
BEGIN:DAYLIGHT
TZOFFSETFROM:+0100
TZOFFSETTO:+0200
TZNAME:CEST
DTSTART:20200329T010000
END:DAYLIGHT
BEGIN:STANDARD
TZOFFSETFROM:+0200
TZOFFSETTO:+0100
TZNAME:CET
DTSTART:20201025T010000
END:STANDARD
END:VTIMEZONE
BEGIN:VEVENT
DTSTART;VALUE=DATE:20201013
DTEND;VALUE=DATE:20201015
DTSTAMP:20260421T132332
CREATED:20201009T110534Z
LAST-MODIFIED:20201009T110534Z
UID:4770-1602547200-1602719999@www.cjdes.org
SUMMARY:Hackaton - Participation des salariés et implication citoyenne
DESCRIPTION:Les 13 et 14 octobre\, Coorace organise un hackathon pour avancer collectivement sur l’enjeu phare de la participation des salariés à la vie l’entreprise. \nAvec nos entreprises d’utilité sociale territoriale\, leurs salariés\, notamment en parcours d’inclusion\, et avec leurs partenaires sur les territoires\, le réseau s’interrogera et trouvera des leviers pour : renforcer la place des salariés à la vie de l’entreprise notamment dans le cadre du dialogue social valoriser les salariés accompagnés au sein de nos structures et leur métier d’utilité sociale territoriale renforcer la place des initiatives citoyennes dans nos solutions pour les territoires Ce Hackathon sera animé par Atout Diversité qui propose des animations basées sur l’innovation\, la participation et la créativité. \nInscriptions obligatoires.
URL:https://www.cjdes.org/evenement/hackaton-participation-des-salaries-et-implication-citoyenne/
LOCATION:Hôtel de Rennes Métropole\, 4 avenue Henry Fréville\, Rennes\, 35000
CATEGORIES:Autre
END:VEVENT
END:VCALENDAR