BEGIN:VCALENDAR
VERSION:2.0
PRODID:-//CJDES - ECPv5.3.0//NONSGML v1.0//EN
CALSCALE:GREGORIAN
METHOD:PUBLISH
X-WR-CALNAME:CJDES
X-ORIGINAL-URL:https://www.cjdes.org
X-WR-CALDESC:évènements pour CJDES
BEGIN:VTIMEZONE
TZID:Europe/Paris
BEGIN:DAYLIGHT
TZOFFSETFROM:+0100
TZOFFSETTO:+0200
TZNAME:CEST
DTSTART:20170326T010000
END:DAYLIGHT
BEGIN:STANDARD
TZOFFSETFROM:+0200
TZOFFSETTO:+0100
TZNAME:CET
DTSTART:20171029T010000
END:STANDARD
END:VTIMEZONE
BEGIN:VEVENT
DTSTART;VALUE=DATE:20171019
DTEND;VALUE=DATE:20171021
DTSTAMP:20260422T103238
CREATED:20170825T093213Z
LAST-MODIFIED:20170825T093213Z
UID:1414-1508371200-1508543999@www.cjdes.org
SUMMARY:Forum National de l'Economie Sociale et Solidaire et de l’Innovation Sociale
DESCRIPTION:Le Conseil National des CRESS\, la Région Nouvelle-Aquitaine et la Communauté d’agglomération du Niortais sont heureux de vous accueillir pour l’édition 2017 du Forum National de l’Economie Sociale et Solidaire et de l’Innovation Sociale\, les 19 et 20 octobre 2017 à l’Acclameur de Niort. \nLes objectifs du Forum\n\nFavoriser la rencontre et les échanges entre professionnels\nDécloisonner l’ESS et l’économie traditionnelle\nRassembler les réseaux nationaux et les mouvements de l’ESS\nValoriser les réussites\, les nouvelles idées\, l’innovation sociale et les nouvelles formes de coopérations\nEncourager les débats et la réflexion autour des enjeux stratégiques pour le développement de l’ESS\nSensibiliser les jeunes à l’ESS et à l’entrepreneuriat collectif\nAccompagner les porteurs de projets dans la création de leur entreprise sociale et solidaire\nFaire de ce Forum un temps fort politique et médiatique sur la scène nationale\nRenforcer la dimension nationale et internationale du Forum en accueillant des acteurs de l’ESS européens et une délégation québécoise\n\nVenez exposer\, participer\, échanger !\nLe Forum se veut être un lieu d’échange et de partage. Avec plus de 160 structures attendues et 1 000 professionnels présents\, venez exposer sur les différents espaces au Forum National de l’ESS et de l’Innovation Sociale. \nINSCRIPTION: http://www.forum-ess.fr/inscription/
URL:https://www.cjdes.org/evenement/forum-national-de-leconomie-sociale-et-solidaire-et-de-linnovation-sociale/
LOCATION:L’acclameur\, 50\, Rue Charles Darwin\, Niort\, 79000
CATEGORIES:Autre
END:VEVENT
END:VCALENDAR