BEGIN:VCALENDAR
VERSION:2.0
PRODID:-//CJDES - ECPv5.3.0//NONSGML v1.0//EN
CALSCALE:GREGORIAN
METHOD:PUBLISH
X-WR-CALNAME:CJDES
X-ORIGINAL-URL:https://www.cjdes.org
X-WR-CALDESC:évènements pour CJDES
BEGIN:VTIMEZONE
TZID:Europe/Paris
BEGIN:DAYLIGHT
TZOFFSETFROM:+0100
TZOFFSETTO:+0200
TZNAME:CEST
DTSTART:20180325T010000
END:DAYLIGHT
BEGIN:STANDARD
TZOFFSETFROM:+0200
TZOFFSETTO:+0100
TZNAME:CET
DTSTART:20181028T010000
END:STANDARD
END:VTIMEZONE
BEGIN:VEVENT
DTSTART;VALUE=DATE:20180404
DTEND;VALUE=DATE:20180405
DTSTAMP:20260422T061841
CREATED:20180309T101352Z
LAST-MODIFIED:20180309T101352Z
UID:2333-1522800000-1522886399@www.cjdes.org
SUMMARY:Évaluer l'impact social\,  quels enjeux pour les financeurs ?
DESCRIPTION:  \n \nL’Avise est heureuse de vous inviter à cet événement afin de partager les notions clés liées à l’évaluation de l’impact social et d’échanger autour des enjeux et pratiques pour les financeurs de l’ESS. \nMARDI 4 AVRIL 2018\nDE 17H À 19H\, PARIS (lieu à venir) \nAU PROGRAMME :\n16h30 : Accueil des participants\n17h-19h :\n• Présentation du mode d’emploi « Évaluer l’impact social – Un éclairage pour ceux qui financent une activité d’utilité sociale » publié par l’Avise\n• Décryptage des enjeux de l’évaluation de l’impact social et présentation de démarches inspirantes\n• Témoignages\, retours d’expérience et temps d’échange\n19h : Cocktail de clôture
URL:https://www.cjdes.org/evenement/evaluer-limpact-social-quels-enjeux-pour-les-financeurs/
LOCATION:Paris
CATEGORIES:Autre
ATTACH;FMTTYPE=image/jpeg:https://www.cjdes.org/wp-content/uploads/2018/03/avise.jpg
END:VEVENT
END:VCALENDAR