BEGIN:VCALENDAR
VERSION:2.0
PRODID:-//CJDES - ECPv5.3.0//NONSGML v1.0//EN
CALSCALE:GREGORIAN
METHOD:PUBLISH
X-WR-CALNAME:CJDES
X-ORIGINAL-URL:https://www.cjdes.org
X-WR-CALDESC:évènements pour CJDES
BEGIN:VTIMEZONE
TZID:Europe/Paris
BEGIN:DAYLIGHT
TZOFFSETFROM:+0100
TZOFFSETTO:+0200
TZNAME:CEST
DTSTART:20180325T010000
END:DAYLIGHT
BEGIN:STANDARD
TZOFFSETFROM:+0200
TZOFFSETTO:+0100
TZNAME:CET
DTSTART:20181028T010000
END:STANDARD
END:VTIMEZONE
BEGIN:VEVENT
DTSTART;TZID=Europe/Paris:20180613T183000
DTEND;TZID=Europe/Paris:20180613T213000
DTSTAMP:20260422T031603
CREATED:20180607T092940Z
LAST-MODIFIED:20180607T092940Z
UID:2854-1528914600-1528925400@www.cjdes.org
SUMMARY:ESS'TEAM à vous l'antenne ..!
DESCRIPTION:Au programme\n18h30/20h Présentation de l’ESS’team par l’ESS’team\nEmission « un jour\, un engagement »:\nPrésentation du programme\,\nPourquoi s’engager dans l’ESS?\nDuplex avec un volontaire en Service civique\, \n20h/21h30 faire connaissance\nBUFFET 100% ESS ***\nBingo Humain pour briser la glace et faire connaissance avec des volontaires\, des structures ESS\, des jeunes engagés\,… \nTout au long de la soirée\, venez :\n– prendre une photo-souvenir avec nous\,\n– écrire un mot ou plus sur notre mur d’expression\,\n– échanger des bons plans ou des services…\net plein d’autres surprises ! \nRendez-vous le mardi 13 juin à ESS’pace\n15 Rue Jean Antoine de Baïf\, 75013 Paris\nM°13 arrêt Bibliothèque François Mitterrand
URL:https://www.cjdes.org/evenement/essteam-a-vous-lantenne/
LOCATION:15 rue Jean Antoine de Baif 75013\, 15 rue Jean Antoine de Baif\, Paris\, 75013\, France
CATEGORIES:Autre
ATTACH;FMTTYPE=image/jpeg:https://www.cjdes.org/wp-content/uploads/2018/06/13.jpg
END:VEVENT
END:VCALENDAR