BEGIN:VCALENDAR
VERSION:2.0
PRODID:-//CJDES - ECPv5.3.0//NONSGML v1.0//EN
CALSCALE:GREGORIAN
METHOD:PUBLISH
X-WR-CALNAME:CJDES
X-ORIGINAL-URL:https://www.cjdes.org
X-WR-CALDESC:évènements pour CJDES
BEGIN:VTIMEZONE
TZID:Europe/Paris
BEGIN:DAYLIGHT
TZOFFSETFROM:+0100
TZOFFSETTO:+0200
TZNAME:CEST
DTSTART:20180325T010000
END:DAYLIGHT
BEGIN:STANDARD
TZOFFSETFROM:+0200
TZOFFSETTO:+0100
TZNAME:CET
DTSTART:20181028T010000
END:STANDARD
END:VTIMEZONE
BEGIN:VEVENT
DTSTART;VALUE=DATE:20180601
DTEND;VALUE=DATE:20180602
DTSTAMP:20260422T032101
CREATED:20180410T075008Z
LAST-MODIFIED:20180410T075008Z
UID:2594-1527811200-1527897599@www.cjdes.org
SUMMARY:Entreprendre autrement dans la culture avec Opale
DESCRIPTION:L’association OPALE organise une journée « Entreprendre autrement dans la culture » afin d’échanger sur les rapports entre Économie sociale et solidaire et entrepreneuriat culturel.\n\n\n\n\n\nDans le cadre du forum « Entreprendre dans la culture » du Ministère de la Culture (30 mai au 1er juin 2018)\, l’association Opale\, qui soutient le développement et la professionnalisation des initiatives artistiques et culturelles et porte le centre de ressources Culture du Dispositif Local d’Accompagnement\, consacrera une journée complète au croisement entre ESS et culture : plénière sur les enjeux de la notion d’entreprendre dans la Culture et l’ESS\, tables rondes pour aborder les enjeux sectoriels et professionnels du secteur culturel de l’ESS sous quatre angles thématiques\, espace stands pour des rencontres informelles avec les acteurs culturels de l’ESS. \nAu programme de la plénière\nInterviendront notamment : \n\nPatricia Coler – déléguée générale de l’Union Fédérale d’Intervention des Structures Culturelles ;\nPhilippe Henry – socio-économiste\, auteur de L’entrepreneuriat culturel : des tensions génériques qu’amplifie la petite taille des organisations\, auto-édition sous licence Creative Commons\, 2018 ;\nBernard Latarjet – auteur du récent rapport Rapprocher la culture et l’économie sociale et solidaire\, publié en 2018 par le Labo de l’ESS ;\nCaroline Neyron – déléguée générale du Mouves.\n\nAu programme des tables rondes\nLes quatre temps d’échange permettront d’aborder les sujets suivants : \n\nEntreprendre contre la précarité (de la passion à la protection sociale) ;\nEntreprendre et coopérer en Europe et à l’international ;\nEntreprendre dans les territoires ruraux et les quartiers populaires ;\nEntreprendre en commun (les formes coopératives et collectives).\n\nInformations pratiques\nVendredi 1er juin 2018\nÉcole Nationale Supérieure des Beaux-Arts\, 14\, rue Bonaparte\, 75006 Paris\nPlus d’informations : forumentreprendreculture.culturecommunication.gouv.fr
URL:https://www.cjdes.org/evenement/entreprendre-autrement-dans-la-culture-avec-opale/
LOCATION:14\, rue Bonaparte\, 75006 Paris\, 14\, rue Bonaparte\, 75006 Paris\, Paris\, 75006\, France
CATEGORIES:Autre
ATTACH;FMTTYPE=image/jpeg:https://www.cjdes.org/wp-content/uploads/2018/04/11990585_1527745284183638_7680413034568039116_n.jpg
END:VEVENT
END:VCALENDAR