BEGIN:VCALENDAR
VERSION:2.0
PRODID:-//CJDES - ECPv5.3.0//NONSGML v1.0//EN
CALSCALE:GREGORIAN
METHOD:PUBLISH
X-WR-CALNAME:CJDES
X-ORIGINAL-URL:https://www.cjdes.org
X-WR-CALDESC:évènements pour CJDES
BEGIN:VTIMEZONE
TZID:Europe/Paris
BEGIN:DAYLIGHT
TZOFFSETFROM:+0100
TZOFFSETTO:+0200
TZNAME:CEST
DTSTART:20180325T010000
END:DAYLIGHT
BEGIN:STANDARD
TZOFFSETFROM:+0200
TZOFFSETTO:+0100
TZNAME:CET
DTSTART:20181028T010000
END:STANDARD
END:VTIMEZONE
BEGIN:VEVENT
DTSTART;TZID=Europe/Paris:20180619T090000
DTEND;TZID=Europe/Paris:20180619T133000
DTSTAMP:20260422T044525
CREATED:20180507T120626Z
LAST-MODIFIED:20180507T120626Z
UID:2752-1529398800-1529415000@www.cjdes.org
SUMMARY:ÉCONOMIE NUMÉRIQUE\, COOPÉRATIVE ET EUROPE : MIDI PLS
DESCRIPTION:L’économie numérique est aujourd’hui dominée par l’économie libérale et cette domination reflète la précarité des travailleurs du secteur. En parallèle en Europe on constate une montée en puissance des coopératives qui représentent une alternative réelle aux entreprises capitalistes. C’est autour de ces sujets que PLS organise\, le 19 juin 2018 dans le cadre convivial de l’AG de SMart\, un Midi POUR LA SOLIDARITÉ. \n\n\n\n\n\n\nMettre en contexte les caractéristiques de l’économie numérique et présenter les caractéristiques de l’environnement des coopératives sont les enjeux au coeur du débat proposé par PLS dans le cadre du Midi POUR LA SOLIDARITÉ du 19 juin prochain\, organisé en partenariat avec la coopérative SMart. \nLes intervenant-e-s aborderont en particulier les problématiques relatives aux relations d’emploi dans l’environnement des plateformes. En lien avec les politiques engagées par l’UE\, seront partagés des modes alternatifs de gouvernance et nouvelles formes de mobilisation collective qui ont vu le jour et permettent de mieux réguler l’écosystème des plateformes et de protéger les travailleurs en ligne. \nIntervenant-e-s\n\nDiana DOVGAN – CECOP\nArnaud BREUIL – Up Coopérative\nSandrino GRACEFFA – SMart\nJacques DEBRY – Febecoop\n\nDébat animé et modéré par Denis Stokkink – POUR LA SOLIDARITÉ \nLet’s Coop 2018 – Assemblée générale SMart\nCe MIDI PLS s’inscrit dans le cadre de l’AG de la coopérative SMart\, le 19 juin 2018 avec au programme de cette journée : ateliers\, débats\, conférences et rencontres et ce dès 9h dans une ambiance participative et conviviale.  #Letscoop2018 \nInfos pratiques Midi PLS\n\nHoraire : 12h – 13h30\nInscription gratuite via le formulaire en ligne\nLunch buffet offert aux participant-e-s\n\n\nLes MIDIS POUR LA SOLIDARITÉ sont des rencontres thématiques organisées pour décrypter les enjeux de la solidarité européenne. Dans un format court\, ces rendez-vous réunissent – sur le temps de midi – des intervenant-e-s pour débattre autour d’un sujet spécifique tout en offrant un espace d’interactions avec le public. \nParce que débattre c’est COMPRENDRE POUR AGIR ! \nAvec le soutien de la COCOF
URL:https://www.cjdes.org/evenement/economie-numerique-cooperative-et-europe-midi-pls/
CATEGORIES:Autre
ATTACH;FMTTYPE=image/png:https://www.cjdes.org/wp-content/uploads/2018/05/midi-food-banweb_2.fw_.png
END:VEVENT
END:VCALENDAR