BEGIN:VCALENDAR
VERSION:2.0
PRODID:-//CJDES - ECPv5.3.0//NONSGML v1.0//EN
CALSCALE:GREGORIAN
METHOD:PUBLISH
X-WR-CALNAME:CJDES
X-ORIGINAL-URL:https://www.cjdes.org
X-WR-CALDESC:évènements pour CJDES
BEGIN:VTIMEZONE
TZID:Europe/Paris
BEGIN:DAYLIGHT
TZOFFSETFROM:+0100
TZOFFSETTO:+0200
TZNAME:CEST
DTSTART:20200329T010000
END:DAYLIGHT
BEGIN:STANDARD
TZOFFSETFROM:+0200
TZOFFSETTO:+0100
TZNAME:CET
DTSTART:20201025T010000
END:STANDARD
END:VTIMEZONE
BEGIN:VEVENT
DTSTART;VALUE=DATE:20200428
DTEND;VALUE=DATE:20200429
DTSTAMP:20260421T144635
CREATED:20200415T104818Z
LAST-MODIFIED:20200415T104818Z
UID:4193-1588032000-1588118399@www.cjdes.org
SUMMARY:Echos équitables - Cadres réglementaires et labels de commerce équitable
DESCRIPTION:Webinaire. \nPublic cible : Professionnel.le.s du secteur du commerce équitable ; Associations ou collectivités territoriales impliquées dans le commerce équitable.
URL:https://www.cjdes.org/evenement/echos-equitables-cadres-reglementaires-et-labels-de-commerce-equitable/
CATEGORIES:Autre
END:VEVENT
END:VCALENDAR