BEGIN:VCALENDAR
VERSION:2.0
PRODID:-//CJDES - ECPv5.3.0//NONSGML v1.0//EN
CALSCALE:GREGORIAN
METHOD:PUBLISH
X-WR-CALNAME:CJDES
X-ORIGINAL-URL:https://www.cjdes.org
X-WR-CALDESC:évènements pour CJDES
BEGIN:VTIMEZONE
TZID:Europe/Paris
BEGIN:DAYLIGHT
TZOFFSETFROM:+0100
TZOFFSETTO:+0200
TZNAME:CEST
DTSTART:20180325T010000
END:DAYLIGHT
BEGIN:STANDARD
TZOFFSETFROM:+0200
TZOFFSETTO:+0100
TZNAME:CET
DTSTART:20181028T010000
END:STANDARD
END:VTIMEZONE
BEGIN:VEVENT
DTSTART;TZID=Europe/Paris:20180130T191500
DTEND;TZID=Europe/Paris:20180130T211500
DTSTAMP:20260422T073757
CREATED:20180123T093328Z
LAST-MODIFIED:20180123T093328Z
UID:1965-1517339700-1517346900@www.cjdes.org
SUMMARY:De l'entreprise au XXIe siècle  Pour une nouvelle donne française et européenne 
DESCRIPTION:De l’entreprise au XXIe siècle  \nPour une nouvelle donne française et européenne  \nMardi 30 janvier 2018 à Sciences-Po  \n19h15 – 21h15 \n27 rue Saint Guillaume \nAmphithéâtre Leroy-Beaulieu-Sorel \nInventer l’entreprise du XXIe siècle pour en surmonter les défis… Opposer la loyauté des rapports économiques aux dérives de la mondialisation\, le respect de la dignité humaine\, le bien commun et la prospérité partagée à la financiarisation de l’économie\, défendre de façon résolue l’environnement… \nVers un modèle européen de gouvernance d’entreprise ? \nUn modèle fondé sur la codétermination\, l’actionnariat de long terme\, des écarts décents de rémunérations et la prise en compte des conséquences économiques\, sociales et environnementales de leur activité. C’est le sens de la proposition de loi « Entreprise nouvelle\, nouvelles gouvernances » du groupe Nouvelle Gauche\, débattue le 18 janvier dernier à l’Assemblée nationale\, co-élaborée avec les milieux universitaire\, entrepreneurial\, syndical et des ONG. \nRegards croisés avec Louis Gallois\, président du conseil de surveillance de PSA\, Antoine Lyon-Caen\, avocat au Conseil d’Etat et à la Cour de cassation\,  Gaël Giraud\, économiste et auteur de Vingt propositions pour refonder le capitalisme\, Marylise Léon\, Secrétaire nationale de la CFDT\, Séverine Picard\, conseillère juridique à la Confédération européenne des Syndicats\, Christophe Clerc\, avocat. Le CJDES interviendra également à l’occasion de cette conférence en la personne de Flora HEMRET\, vice-présidente.  \nA l’initiative de Dominique Potier\, député de Meurthe-et-Moselle\, et de Boris Vallaud\, député des Landes\, venez débattre sur l’entreprise du XXIème en France et en Europe autour de deux tables rondes\, animées par Jean-Marc Vittori\, éditorialiste aux Echos. \nMerci d’indiquer votre présence via ce formulaire\, et suivez l’évènement sur Facebook. \n 
URL:https://www.cjdes.org/evenement/de-lentreprise-au-xxie-siecle-pour-une-nouvelle-donne-francaise-et-europeenne/
LOCATION:Sciences Po Paris\, 27 rue Saint Guillaume\, Paris\, 75006\, France
CATEGORIES:CJDES
ATTACH;FMTTYPE=image/png:https://www.cjdes.org/wp-content/uploads/2018/01/image003.png
END:VEVENT
END:VCALENDAR