BEGIN:VCALENDAR
VERSION:2.0
PRODID:-//CJDES - ECPv5.3.0//NONSGML v1.0//EN
CALSCALE:GREGORIAN
METHOD:PUBLISH
X-WR-CALNAME:CJDES
X-ORIGINAL-URL:https://www.cjdes.org
X-WR-CALDESC:évènements pour CJDES
BEGIN:VTIMEZONE
TZID:Europe/Paris
BEGIN:DAYLIGHT
TZOFFSETFROM:+0100
TZOFFSETTO:+0200
TZNAME:CEST
DTSTART:20200329T010000
END:DAYLIGHT
BEGIN:STANDARD
TZOFFSETFROM:+0200
TZOFFSETTO:+0100
TZNAME:CET
DTSTART:20201025T010000
END:STANDARD
END:VTIMEZONE
BEGIN:VEVENT
DTSTART;TZID=Europe/Paris:20200205T183000
DTEND;TZID=Europe/Paris:20200205T203000
DTSTAMP:20260421T172306
CREATED:20200204T153022Z
LAST-MODIFIED:20200204T153022Z
UID:4082-1580927400-1580934600@www.cjdes.org
SUMMARY:Conférence - Le nouveau municipalisme
DESCRIPTION:Conférence organisée par la Fondation de l’Ecologie Politique\, la Fondation Copernic\, la Fondation Gabriel Péri\, l’Institut Tribune Socialiste\, la Fondation Pour un Autre Monde et Espaces Marx.\n \nLe nouveau municipalisme ou communalisme cherche à redéfinir la place des institutions locales et municipales dans les processus de transformation des sociétés. Il recouvre un ensemble de pratiques politiques et d’actions qui visent\, en s’appuyant sur l’auto-gouvernement\, un changement global en partant du local. Il s’agit ainsi de prendre en compte tous les niveaux d’intervention\, sans négliger pour autant le national et les grandes régions au plan international.\n\nLe nouveau municipalisme participe à la réflexion sur la transition sociale\, écologique et démocratique. Il implique fortement la population\, le territoire et les institutions. Les territoires sont\, par exemple\,  des lieux d’action privilégiée de la lutte contre le changement climatique. Ce qui est mis en relief\, c’est la conception de la transition. Sans nier l’importance du rôle de l’Etat dans les stratégies de rupture avec le néolibéralisme dominant\, il s’agit de redéfinir la place des institutions locales et municipales.\n\nLa dimension internationale du municipalisme s’est construite à travers l’altermondialisme. Ce sont les réseaux internationaux de villes qui ont permis d’élargir la vision et l’action des municipalités et du municipalisme\, en prenant appui notamment sur les alliances construites avec les réseaux internationaux de mouvements.\n\n\nAvec :\n\nElisabeth DAU\, directrice analyse et intelligence collective\, Mouvement Utopia et Commonspolis; auteure de la préface du Guide du municipalisme de Debbie Bookchin et Ada Colau (éditions CLM\, 2019) ;\nMagali FRICAUDET\, coprésidente de l’Association Internationale des techniciens et chercheurs (Aitec).\nLe débat sera animé par Marine FLEURY\, responsable de l’axe démocratie environnementale de la Fondation de l’Écologie politique\, maître de conférences en droit public à l’Université de Picardie Jules Verne.
URL:https://www.cjdes.org/evenement/conference-le-nouveau-municipalisme/
LOCATION:Le maltais rouge\, 40 rue de malte\, Paris\, 75011\, France
CATEGORIES:Autre
ORGANIZER;CN="Fondation%20de%20l%27%C3%A9cologie%20politique":MAILTO:contact@fondationecolo.org
END:VEVENT
END:VCALENDAR