BEGIN:VCALENDAR
VERSION:2.0
PRODID:-//CJDES - ECPv5.3.0//NONSGML v1.0//EN
CALSCALE:GREGORIAN
METHOD:PUBLISH
X-WR-CALNAME:CJDES
X-ORIGINAL-URL:https://www.cjdes.org
X-WR-CALDESC:évènements pour CJDES
BEGIN:VTIMEZONE
TZID:Europe/Paris
BEGIN:DAYLIGHT
TZOFFSETFROM:+0100
TZOFFSETTO:+0200
TZNAME:CEST
DTSTART:20200329T010000
END:DAYLIGHT
BEGIN:STANDARD
TZOFFSETFROM:+0200
TZOFFSETTO:+0100
TZNAME:CET
DTSTART:20201025T010000
END:STANDARD
END:VTIMEZONE
BEGIN:VEVENT
DTSTART;TZID=Europe/Paris:20200123T083000
DTEND;TZID=Europe/Paris:20200123T123000
DTSTAMP:20260421T162157
CREATED:20200106T093038Z
LAST-MODIFIED:20200106T093038Z
UID:4037-1579768200-1579782600@www.cjdes.org
SUMMARY:Colloque RSE - ISO 26030 : un outil performant pour atteindre les Objectifs de Développement Durable dans la chaîne alimentaire
DESCRIPTION:La RSE (responsabilité sociétale des entreprises) prend une place importante dans le secteur agroalimentaire en raison d’attentes sociétales de plus en plus fortes. Celles-ci portent notamment sur la transparence des processus de production\, les impacts environnementaux\, les engagements dans les territoires\, la juste rémunération des agriculteurs…\n\nOutre cette évolution des besoins\, plusieurs signaux démontrent la montée en puissance de la RSE : cadre réglementaire de plus en plus étoffé\, exigences des distributeurs\, levier d’amélioration de la compétitivité\, impact sur la notoriété…\n\nVous souhaitez découvrir les enjeux de cette nouvelle norme volontaire et comprendre comment elle peut accompagner les parties prenantes de l’agroalimentaire à répondre à ces multiples attentes ? \n\nParticipez le jeudi 23 janvier 2020\, au matin\, à ce colloque organisé par La Coopération Agricole\, AFNOR\, le Conseil économique social et environnemental et Bpifrance qui se tiendra au CESE – Palais d’Iéna  Paris 16ème.\n\nInscription ici. 
URL:https://www.cjdes.org/evenement/colloque-rse-iso-26030-un-outil-performant-pour-atteindre-les-objectifs-de-developpement-durable-dans-la-chaine-alimentaire/
LOCATION:CESE\, 9 place d'Iéna\, Paris\, 75016
CATEGORIES:Autre
END:VEVENT
END:VCALENDAR