BEGIN:VCALENDAR
VERSION:2.0
PRODID:-//CJDES - ECPv5.3.0//NONSGML v1.0//EN
CALSCALE:GREGORIAN
METHOD:PUBLISH
X-WR-CALNAME:CJDES
X-ORIGINAL-URL:https://www.cjdes.org
X-WR-CALDESC:évènements pour CJDES
BEGIN:VTIMEZONE
TZID:Europe/Paris
BEGIN:DAYLIGHT
TZOFFSETFROM:+0100
TZOFFSETTO:+0200
TZNAME:CEST
DTSTART:20180325T010000
END:DAYLIGHT
BEGIN:STANDARD
TZOFFSETFROM:+0200
TZOFFSETTO:+0100
TZNAME:CET
DTSTART:20181028T010000
END:STANDARD
END:VTIMEZONE
BEGIN:VEVENT
DTSTART;TZID=Europe/Paris:20180326T093000
DTEND;TZID=Europe/Paris:20180326T160000
DTSTAMP:20260422T061147
CREATED:20180322T111928Z
LAST-MODIFIED:20180322T111928Z
UID:2461-1522056600-1522080000@www.cjdes.org
SUMMARY:Colloque : Quand petite enfance et ESS céent richesses et opportunités
DESCRIPTION:Le collectif associatif ACCENT Petite Enfancevous invite à une journée thématique sur l’ESSdans la Petite Enfance. Au programme\, deux tables rondes pour interroger le modèle économique et le positionnement de ce secteur d’activité. Un colloque ouvert à tous les acteurs Petite Enfance de l’ESS \n\n\nAvec cette journée thématique\, le collectif souhaite permettre l’échange des informations\, des outils\, des expériences et des savoir pour renforcer et professionnaliser le secteur. Il s’agit de : \n\nFaire valoir la spécificité et la richesse des acteurs de l’ESS\nConnaitre les différents statuts juridiques et fiscaux\nRéfléchir au modèle économique des associations\n\nAu programme\, deux tables rondes : \n\nLa nécessité de travailler ensemble\nRéinterroger le modèle économique\n\nUn temps d’échanges clôtura chaque table ronde. \nAccédez au formulaire d’inscription… \nPour toutes informations supplémentaires\, rendez-vous sur le site ACCENT Petite Enfance
URL:https://www.cjdes.org/evenement/colloque-quand-petite-enfance-et-ess-ceent-richesses-et-opportunites/
LOCATION:Paris 15\, Paris\, 75015\, France
CATEGORIES:Autre
ATTACH;FMTTYPE=image/png:https://www.cjdes.org/wp-content/uploads/2018/03/cropped-entete-1.png
END:VEVENT
END:VCALENDAR