BEGIN:VCALENDAR
VERSION:2.0
PRODID:-//CJDES - ECPv5.3.0//NONSGML v1.0//EN
CALSCALE:GREGORIAN
METHOD:PUBLISH
X-WR-CALNAME:CJDES
X-ORIGINAL-URL:https://www.cjdes.org
X-WR-CALDESC:évènements pour CJDES
BEGIN:VTIMEZONE
TZID:Europe/Paris
BEGIN:DAYLIGHT
TZOFFSETFROM:+0100
TZOFFSETTO:+0200
TZNAME:CEST
DTSTART:20200329T010000
END:DAYLIGHT
BEGIN:STANDARD
TZOFFSETFROM:+0200
TZOFFSETTO:+0100
TZNAME:CET
DTSTART:20201025T010000
END:STANDARD
END:VTIMEZONE
BEGIN:VEVENT
DTSTART;VALUE=DATE:20200207
DTEND;VALUE=DATE:20200209
DTSTAMP:20260421T160224
CREATED:20200204T155811Z
LAST-MODIFIED:20200204T155811Z
UID:4091-1581033600-1581206399@www.cjdes.org
SUMMARY:Colloque | L’ESS\, quelle histoire ?  Dynamiques\, méthodes et perspectives pour l’histoire de l’économie sociale et solidaire
DESCRIPTION:Relire l’histoire de l’économie sociale et solidaire\, faire le point sur ses sources et méthodes\, ouvrir des perspectives pour l’avenir. \nL’économie sociale et solidaire\, souvent caractérisée par ses trois composantes principales (associations\, mutuelles\, coopératives)\, résulte d’une histoire au moins bi-séculaire liée au développement du capitalisme libéral et à l’organisation du travail qu’il induit. Ses définitions\, qui ont évidemment évolué depuis le XIXe siècle et varient selon les pays\, sont relatives à ses modes d’organisation économique ou institutionnelle\, mais aussi ses valeurs\, souvent appréhendées à travers le prisme du politique ou du culturel. \nTrop souvent\, les études historiques sur l’ESS ont été cloisonnées par une approche sectorielle ou territoriale. L’objectif de ce colloque est de penser une histoire plus globale de l’ESS\, tout en mettant en valeur ses spécificités\, sources et méthodes. \nInscription préalables ici.
URL:https://www.cjdes.org/evenement/colloque-less-quelle-histoire-dynamiques-methodes-et-perspectives-pour-lhistoire-de-leconomie-sociale-et-solidaire/
LOCATION:CEDIAS – Musée Social\, 5 rue Las Cases\, Paris\, 75007
CATEGORIES:Autre
END:VEVENT
END:VCALENDAR