BEGIN:VCALENDAR
VERSION:2.0
PRODID:-//CJDES - ECPv5.3.0//NONSGML v1.0//EN
CALSCALE:GREGORIAN
METHOD:PUBLISH
X-WR-CALNAME:CJDES
X-ORIGINAL-URL:https://www.cjdes.org
X-WR-CALDESC:évènements pour CJDES
BEGIN:VTIMEZONE
TZID:Europe/Paris
BEGIN:DAYLIGHT
TZOFFSETFROM:+0100
TZOFFSETTO:+0200
TZNAME:CEST
DTSTART:20170326T010000
END:DAYLIGHT
BEGIN:STANDARD
TZOFFSETFROM:+0200
TZOFFSETTO:+0100
TZNAME:CET
DTSTART:20171029T010000
END:STANDARD
END:VTIMEZONE
BEGIN:VEVENT
DTSTART;TZID=Europe/Paris:20171201T150000
DTEND;TZID=Europe/Paris:20171201T173000
DTSTAMP:20260422T090502
CREATED:20171020T094705Z
LAST-MODIFIED:20171020T094705Z
UID:1741-1512140400-1512149400@www.cjdes.org
SUMMARY:Club lobbying CJDES #3 représentation d'intérêt
DESCRIPTION:Objet : chaque structure partage le dispositif qu’il a/va mettre en place pour sa structure en matière de reporting des activités de lobbying. \nQuand/ ou : le vendredi 1er décembre à 15h \nRenseignements et inscription: clublobbying@cjdes.org
URL:https://www.cjdes.org/evenement/club-lobbying-cjdes-3-representation-dinteret/
CATEGORIES:CJDES
ATTACH;FMTTYPE=image/jpeg:https://www.cjdes.org/wp-content/uploads/2017/10/ClubProtaille.jpg
END:VEVENT
END:VCALENDAR