BEGIN:VCALENDAR
VERSION:2.0
PRODID:-//CJDES - ECPv5.3.0//NONSGML v1.0//EN
CALSCALE:GREGORIAN
METHOD:PUBLISH
X-WR-CALNAME:CJDES
X-ORIGINAL-URL:https://www.cjdes.org
X-WR-CALDESC:évènements pour CJDES
BEGIN:VTIMEZONE
TZID:Europe/Paris
BEGIN:DAYLIGHT
TZOFFSETFROM:+0100
TZOFFSETTO:+0200
TZNAME:CEST
DTSTART:20170326T010000
END:DAYLIGHT
BEGIN:STANDARD
TZOFFSETFROM:+0200
TZOFFSETTO:+0100
TZNAME:CET
DTSTART:20171029T010000
END:STANDARD
END:VTIMEZONE
BEGIN:VEVENT
DTSTART;TZID=Europe/Paris:20171115T193000
DTEND;TZID=Europe/Paris:20171115T213000
DTSTAMP:20260424T103724
CREATED:20171020T094143Z
LAST-MODIFIED:20171108T173434Z
UID:1736-1510774200-1510781400@www.cjdes.org
SUMMARY:Club lobbying CJDES #2
DESCRIPTION:Pour la deuxième fois\, le club lobbying propose à ses membres de se retrouver autour d’un verre pour échanger sur l’actualité politique ESS. Il s’agit de la deuxième réunion de ce club et il est donc encore tout à fait possible de rejoindre ce cercle. \nCe club d’échanges est réservé aux professionnels du lobbying/plaidoyer d’entreprises de l’ESS\, en fonction. \nInscriptions et renseignements: clublobbying@cjdes.org \nQuand/ où : Le mercredi 15 novembre à 19h30 au caveau Montpensier\, 15 Rue de Montpensier\, 75001 Paris
URL:https://www.cjdes.org/evenement/club-lobbying-cjdes-2/
LOCATION:Caveau Montpensier\, 15 Rue de Montpensier\, paris\, 75001\, France
CATEGORIES:CJDES
ATTACH;FMTTYPE=image/jpeg:https://www.cjdes.org/wp-content/uploads/2017/10/ClubProtaille.jpg
END:VEVENT
END:VCALENDAR