BEGIN:VCALENDAR
VERSION:2.0
PRODID:-//CJDES - ECPv5.3.0//NONSGML v1.0//EN
CALSCALE:GREGORIAN
METHOD:PUBLISH
X-WR-CALNAME:CJDES
X-ORIGINAL-URL:https://www.cjdes.org
X-WR-CALDESC:évènements pour CJDES
BEGIN:VTIMEZONE
TZID:Europe/Paris
BEGIN:DAYLIGHT
TZOFFSETFROM:+0100
TZOFFSETTO:+0200
TZNAME:CEST
DTSTART:20190331T010000
END:DAYLIGHT
BEGIN:STANDARD
TZOFFSETFROM:+0200
TZOFFSETTO:+0100
TZNAME:CET
DTSTART:20191027T010000
END:STANDARD
END:VTIMEZONE
BEGIN:VEVENT
DTSTART;TZID=Europe/Paris:20190122T183000
DTEND;TZID=Europe/Paris:20190122T203000
DTSTAMP:20260421T230449
CREATED:20190110T134742Z
LAST-MODIFIED:20190110T134742Z
UID:3496-1548181800-1548189000@www.cjdes.org
SUMMARY:Club gouvernance
DESCRIPTION:Bonjour à tous\, \nTout d’abord nous vous souhaitons une excellente année 2019 et plein de belles réussites pour vous et pour vos proches! \nLe prochain club gouvernance se réunit mardi 22 janvier à 18h30 dans les locaux de la Macif. \nDans le cadre de notre thématique semestrielle sur le travail\, nous aborderons la place des salariés et de leur représentation dans les structures de l’ESS. \nPour échanger sur ce thème\, nous aurons le plaisir d’accueillir Jean-François Poupard\, directeur des relations sociales au sein du Groupe Vyv et ancien directeur de la SCOP Syndex\, et Alexandre Arathoon\, entrepreneur associé\, salarié au sein de Coopaname\, élu CSE et représentant des salarié.e.s au CA de Coopname. \nA très bientôt ! \n——————————————– \nLes clubs professionnels du CJDES sont ouverts à tous. Destinés aux salariés et élus des entreprises de l’ESS\, ces clubs permettent à chaque professionnel de l’ESS d’aller à la rencontre de ses pairs de toute l’économie sociale et solidaire sur les sujets qui sont les siens au quotidien. Chaque club est animé par le CJDES avec un partenaire de l’ESS et vous offre un cadre d’échange de bonnes pratiques toujours en toute convivialité. Quatre clubs existent: RSE\, Gouvernance\, Lobbying et métiers du développement.
URL:https://www.cjdes.org/evenement/club-gouvernance/
LOCATION:MACIF\, Place Etienne Pernet 75015\, Paris\, 75015
CATEGORIES:CJDES
END:VEVENT
END:VCALENDAR