BEGIN:VCALENDAR
VERSION:2.0
PRODID:-//CJDES - ECPv5.3.0//NONSGML v1.0//EN
CALSCALE:GREGORIAN
METHOD:PUBLISH
X-WR-CALNAME:CJDES
X-ORIGINAL-URL:https://www.cjdes.org
X-WR-CALDESC:évènements pour CJDES
BEGIN:VTIMEZONE
TZID:Europe/Paris
BEGIN:DAYLIGHT
TZOFFSETFROM:+0100
TZOFFSETTO:+0200
TZNAME:CEST
DTSTART:20170326T010000
END:DAYLIGHT
BEGIN:STANDARD
TZOFFSETFROM:+0200
TZOFFSETTO:+0100
TZNAME:CET
DTSTART:20171029T010000
END:STANDARD
END:VTIMEZONE
BEGIN:VEVENT
DTSTART;TZID=Europe/Paris:20171116T183000
DTEND;TZID=Europe/Paris:20171116T203000
DTSTAMP:20260422T115148
CREATED:20171108T172242Z
LAST-MODIFIED:20171108T172242Z
UID:1786-1510857000-1510864200@www.cjdes.org
SUMMARY:Club gouvernance sur l'accueil des bénévoles
DESCRIPTION:Lors du club du 19 septembre\, nous avons reçu Jacques Malet\, fondateur et Président de Recherches & Solidarités\, pour une présentation de la 10ème enquête annuelle du Baromètre d’opinion des bénévoles\, qui livre des enseignements nombreux sur les « parcours bénévoles ».  \n\nPour la réunion du jeudi 16 novembre à 18H30 à la MACIF (17 place Etienne Pernet Paris 15)\, nous proposons donc de travailler sur la phase d’accueil du bénévole\, en s’appuyant à la fois sur les éléments du baromètre et des échanges lors de cette intervention\, mais également des connaissances des participants au sein de leur structures respectives.\nLa réunion serait animée en 4 temps en partant de la phase d’accueil du nouveau bénévole : \nØ Partie 1 : Qu’attend-on d’une phase d’accueil d’un bénévole dans l’idéal ? \nØ Partie 2 : Ce que nous faisons dans nos structures et ce qu’on pourrait imaginer faire \nØ Partie 3 : travail sur les idées ressorties : pourquoi est-ce une bonne idée ? Quelles sont les limites que j’identifie ou que j’ai connues dans ma structure ? \nØ Partie 4 : phase de synthèse
URL:https://www.cjdes.org/evenement/club-gouvernance-sur-laccueil-des-benevoles/
LOCATION:MACIF\, Place Etienne Pernet 75015\, Paris\, 75015
CATEGORIES:CJDES
ATTACH;FMTTYPE=image/jpeg:https://www.cjdes.org/wp-content/uploads/2017/10/ClubProtaille.jpg
END:VEVENT
END:VCALENDAR