BEGIN:VCALENDAR
VERSION:2.0
PRODID:-//CJDES - ECPv5.3.0//NONSGML v1.0//EN
CALSCALE:GREGORIAN
METHOD:PUBLISH
X-WR-CALNAME:CJDES
X-ORIGINAL-URL:https://www.cjdes.org
X-WR-CALDESC:évènements pour CJDES
BEGIN:VTIMEZONE
TZID:Europe/Paris
BEGIN:DAYLIGHT
TZOFFSETFROM:+0100
TZOFFSETTO:+0200
TZNAME:CEST
DTSTART:20170326T010000
END:DAYLIGHT
BEGIN:STANDARD
TZOFFSETFROM:+0200
TZOFFSETTO:+0100
TZNAME:CET
DTSTART:20171029T010000
END:STANDARD
END:VTIMEZONE
BEGIN:VEVENT
DTSTART;VALUE=DATE:20171206
DTEND;VALUE=DATE:20171209
DTSTAMP:20260422T090419
CREATED:20171010T132357Z
LAST-MODIFIED:20171010T132357Z
UID:1668-1512518400-1512777599@www.cjdes.org
SUMMARY:8ème édition des Rencontres du Mont-Blanc
DESCRIPTION:ESS Forum international se tiendra pour sa 8ème édition à Archamps (Grand Genève Français) les 6\, 7 et 8 décembre 2017. Ces nouvelles Rencontres du Mont-Blanc auront pour thème « ESS : l’efficacité nouvelle ». \n​Les Rencontres du Mont-Blanc\, qu’est-ce que c’est ?\n3 jours d’échanges\n\n« Plénières\, regards croisés et ateliers participatifs »\n​Acteurs de l’économie sociale et solidaire des 5 continents »\nPartage d’idées et de bonnes pratiques »\n​Construction de solutions concrètes et de réflexions prospectives »\n\n​1 « Project Place »\n\n« Espace inspiant de co-construction de projets »\n​Sessions de coaching et de mentoring personnalisés »\n\n1 thématique et 3 axes de réflexion\nESS : l’efficacité nouvelle\n\n« L’ESS : Entreprendre et innover pour un développement durable »\n​L’ESS : La gouvernance démocratique et partenariale au service de l’efficacité »\n​L’ESS : Des réponses efficaces et durables aux besoins des populations »\n\n​Informations et inscriptions\n​Pour en savoir plus et vous inscrire\, veuillez écrire à l’adresse suivante : contact@rencontres-montblanc.coop
URL:https://www.cjdes.org/evenement/8eme-edition-des-rencontres-du-mont-blanc-2/
LOCATION:Archamps\, 74160\, France
CATEGORIES:Autre
ATTACH;FMTTYPE=image/png:https://www.cjdes.org/wp-content/uploads/2017/10/logo-rencontres-mont-blanc-2017.png
END:VEVENT
END:VCALENDAR