BEGIN:VCALENDAR
VERSION:2.0
PRODID:-//CJDES - ECPv5.3.0//NONSGML v1.0//EN
CALSCALE:GREGORIAN
METHOD:PUBLISH
X-WR-CALNAME:CJDES
X-ORIGINAL-URL:https://www.cjdes.org
X-WR-CALDESC:évènements pour CJDES
BEGIN:VTIMEZONE
TZID:Europe/Paris
BEGIN:DAYLIGHT
TZOFFSETFROM:+0100
TZOFFSETTO:+0200
TZNAME:CEST
DTSTART:20180325T010000
END:DAYLIGHT
BEGIN:STANDARD
TZOFFSETFROM:+0200
TZOFFSETTO:+0100
TZNAME:CET
DTSTART:20181028T010000
END:STANDARD
END:VTIMEZONE
BEGIN:VEVENT
DTSTART;VALUE=DATE:20180528
DTEND;VALUE=DATE:20180529
DTSTAMP:20260422T044617
CREATED:20180330T134731Z
LAST-MODIFIED:20180330T134731Z
UID:2509-1527465600-1527551999@www.cjdes.org
SUMMARY:3ème Conférence Régionale de l’Économie Sociale et Solidaire
DESCRIPTION:Save the date : 3e Conférence Régionale de l’Économie Sociale et Solidaire – 28 mai – Caen \nL’État et la Région Normandie\, en collaboration avec la CRESS Normandie\, organisent le 28 mai la 3e Conférence régionale de l’économie sociale et solidaire avec pour thème général le financement. \nAu programme : plénière le matin\, buffet et stands\, ateliers l’après-midi.
URL:https://www.cjdes.org/evenement/3eme-conference-regionale-de-leconomie-sociale-et-solidaire/
LOCATION:Caen\, France
CATEGORIES:Autre
ATTACH;FMTTYPE=image/jpeg:https://www.cjdes.org/wp-content/uploads/2018/03/29573205_771516549705553_2975451565415521032_n.jpg
END:VEVENT
END:VCALENDAR